BEGIN:VCALENDAR
VERSION:2.0
PRODID:-//Hub of Consciousnes - ECPv6.2.9//NONSGML v1.0//EN
CALSCALE:GREGORIAN
METHOD:PUBLISH
X-ORIGINAL-URL:https://hubofconsciousness.com
X-WR-CALDESC:Events for Hub of Consciousnes
REFRESH-INTERVAL;VALUE=DURATION:PT1H
X-Robots-Tag:noindex
X-PUBLISHED-TTL:PT1H
BEGIN:VTIMEZONE
TZID:Asia/Dubai
BEGIN:STANDARD
TZOFFSETFROM:+0400
TZOFFSETTO:+0400
TZNAME:+04
DTSTART:20260101T000000
END:STANDARD
END:VTIMEZONE
BEGIN:VEVENT
DTSTART;TZID=Asia/Dubai:20260510T093000
DTEND;TZID=Asia/Dubai:20260510T180000
DTSTAMP:20260422T015337
CREATED:20251222T123419Z
LAST-MODIFIED:20260421T105805Z
UID:1002963-1778405400-1778436000@hubofconsciousness.com
SUMMARY:PSYCH-K® Basic Workshop with Deepa Arora
DESCRIPTION:Learn PSYCH-K® to change your life and reveal your full potential!\n­ \n\n­\nMost of the time\, we live with impeding subconscious beliefs\, which limit our true potential and make it impossible for us to truly discover our boundaries. We are not even aware of the dominating strength of these beliefs\, which prevent us to live the life we wish.­ \n  \n“No matter what I do or how hard I try\, it’s never good enough.”\n“The decisions I make usually turn out wrong.”\n“If people knew the real me they wouldn’t like me.”\n“I blame others (my boss\, co-workers\, my spouse\, etc.) for my problems.”\n“I shouldn’t try anything new or risky because I’ll probably screw it up.”\n“It’s not safe to ask others to help me because I can’t trust them to do the job right.”\n“My opinion doesn’t really matter.”\n“What I do isn’t really important.” \n  \nIf you have such limiting beliefs\, you are RIGHT! \n  \nAs long as you have such beliefs\, your manifestations in life will keep on supporting them. \n  \n“The ‘secret to life’ is BELIEF. Rather than genes\, it is our beliefs that control our lives. PSYCH–K® is a simple\, self-empowering process to change your beliefs and perceptions that impact your life at a cellular level.” —Bruce Lipton\, Ph.D Cellular Biologist\, author of Biology of Belief \n  \nRecent scientific research shows that at least 95 % of our life is automatically operated by our subconscious (unconscious) mind\, without us noticing it. Often the subconscious is like a minefield of limiting beliefs and old outdated “programs” that are no longer worthy of who we are\, or who we are becoming. These powerful but limiting programs and beliefs affect our lives in all aspects continuously\, including relationships\, self-confidence\, financial status\, career choice\, and even our health and physical condition. In our lives\, the reasons for these behaviors and performances that we cannot understand are also due to these belief patterns we are not aware of. \n­\n\nWHAT IS PSYCH-K® ? \nPSYCH-K® is a unique\, easy\, fast and effective method\, developed to reprogram these long-established\, dominating and limiting beliefs\, which prevent a healthy and peaceful life. In other words\, it is a way that liberates by restructuring all limiting mind mechanisms into supportive automatisms to realize one’s full potential. \n  \nThis method\, with a proven record of success over 35 years by hundreds of thousands of people around the world\, is a unique blend of various contemporary and ancient tools\, derived from neuroscience research for permanent and comfortable change. It is a very practical process that transcends the standard methods of visualization\, affirmations\, will power\, and positive thinking especially effective in the areas of behavioral/habit change\, wellness and distress reduction. \n  \nGood news: through PSYCH-K® we can change without having to dig up our whole past. We don’t have to know what has happened in order to transform it.More good news: it is also self applicable. You can use PSYCH-K® alone to help yourself as well as to help others.There is even more good news: anyone can learn it. \n\n\nWHICH AREASE OF YOUR LIFE CAN YOU TRANSFORM WITH PSYCH-K?® \n🌀 PERSONAL POWER: Increase your self-confidence and willingness to take positive and decisive action in your life. \n🌀 SPIRITUALITY: Release subconscious resistance to experience your connection with Divinity. \n🌀 RELATIONSHIPS: Create beliefs that support you in having healthy and loving relationships. \n🌀 HEALTH / BODY: Reduce “emotional distress” and program your body/mind for optimal health and vitality. \n🌀 GRIEF / LOSS: Resolve painful memories and find greater peace and happiness. \n🌀 PROSPERITY: Replace old attitudes about money and change self-limiting beliefs about financial prosperity. \n  \n\n\nWHAT WILL YOU LEARN IN THE PSYCH-K® BASIC WORKSHOP?   \n🌀 How are beliefs created and how do they affect our lives? \n🌀 What is PSYCH-K® and how does it work? \n🌀 PSYCH-K®’s unique muscle testing and how to communicate with the subconscious mind. \n🌀 How to create well-formed\, and compelling goal statements to enhance any area of your life. \n🌀 Two different processes for reprogramming subconscious beliefs\, the ‘New Direction Balance’ and the ‘Resolution Balance’ \n🌀 How to transform distress\, traumas\, and fears into a peaceful perception permanently \n🌀 Use PSYCH-K® with yourself and change your limiting beliefs without the need of another person. \n🌀 Use PSYCH-K® to change your life or to help others to change their lives as soon as the Workshop is over. \n\nTAKEAWAYS: \n\nReceive a Certificate of Completion\nPSYCH-K® Manual\nPractice as a PSYCH-K® facilitator both personally & professionally\n\n\nMEET YOUR INSTRUCTOR: DEEPA ARORA\n \n  \nDeepa is amongst only 32 PSYCH-K® Instructors worldwide\, and the first instructor to bring PSYCH-K® to the Middle-East & Subcontinent. She has been a psychotherapist\, Consciousness Coach & international speaker for the past 15 years having worked with international organizations across the globe. Her purpose is to lead mental\, emotional\, spiritual & physical transformation through teaching PSYCH-K®️ as well as facilitating PSYCHK ®️ sessions. She has touched thousands of lives from all walks of life and continues to serve through her travels. \n\n  \n\n  \n  \n\n\n\nREGISTRATION DETAILS­\nDates: 8\,9\,10 May 2026 \nTimings: 09:30 am – 6:00 pm (GST) \nInvestment: Early Bird: AED 4040 (+ 5 %VAT); Full Price: AED 4\,225 (+ 5 %VAT) \nConvert into 4 easy installments with TABBY \nVenue: Hub of Consciousness\, Al Barsha 3\, Dubai \nYou can book a 20 Minute complimentary Consultation to Learn More! 
URL:https://hubofconsciousness.com/event/psych-k-basic-workshop-with-deepa-arora-11-4/
CATEGORIES:Trainings
ATTACH;FMTTYPE=image/jpeg:https://hubofconsciousness.com/wp-content/uploads/2024/01/psychk-workshop.jpg
END:VEVENT
BEGIN:VEVENT
DTSTART;TZID=Asia/Dubai:20260510T100000
DTEND;TZID=Asia/Dubai:20260510T160000
DTSTAMP:20260422T015337
CREATED:20250723T145804Z
LAST-MODIFIED:20260421T081245Z
UID:1002349-1778407200-1778428800@hubofconsciousness.com
SUMMARY:CRYSTAL HEALING TRAINING LEVEL 1
DESCRIPTION:  \nPowerful. Embodied. Down-to-earth. \n  \nImmerse in a transcendent crystal healing experience… without the sparkly fluff. Crystals and gemstones have been used for thousands of years as powerful healing aids. This workshop will give you a deeper understanding in one of Mother Nature’s wonderful and natural therapies\, and you’ll soon find yourself pleasantly involved in crystal energy work as part of your daily life. \n  \nNot only that\, you will learn to get in touch with your own crystalline energy and tap into the deep intuition that exists within you! \n  \n\n\n­ \nYOU WILL LEARN: \n💎Scientific & spiritual secrets of energy & vibration \n💎The physics & metaphysics of crystals & their properties \n💎Crystals in the Atlantean & Lemurian stories \n💎How to direct energy through & around the body \n💎Traditional colour healing properties. \n💎 How to select crystals? \n💎 How to cleanse & charge crystals \n💎 How to attune to crystals \n💎 How to make Crystal Grids \n💎 How to make Crystal Elexers \n💎 How to perform healing with crystals \n\nTAKEAWAYS: \n💎 Comprehensive Manual.\n💎 IPHM certificate. \n \n\nWHAT OUR STUDENTS SAY… \n\n  \n\n\n \n  \nMEET YOUR INSTRUCTOR: ERA ARORA \nEra is the founder of Hub of Consciousness & certified in crystal healing & body work from Australia. She has been working with crystals for over 5 years now and is deeply connected with crystaline consciousness. She offers rare insights into activating the power of crystals to enhance your self transformation journey. \n­ \n\nTRAINING SCHEDULE & DETAILS  \nDates: 9 & 10 May 2026 \nTimings: 10:00 am – 4:00 pm (GST) \n Investment: AED 1500 (+ 5 %VAT)  \n–Convert into 4 easy installments with TABBY \n Venue: Hub of Consciousness\, Al Barsha 3\, Dubai \nYou can book a 20 Minute complimentary Consultation to Learn More! 
URL:https://hubofconsciousness.com/event/metaphysics-of-crystals-training-advanced-2-2-2-2/
LOCATION:Hub of Consciousness\, Villa 2 – 39th St – Al Barsha – Al Barsha 3 – Dubai\, Al Barsha\, United Arab Emirates
CATEGORIES:Trainings
ATTACH;FMTTYPE=image/jpeg:https://hubofconsciousness.com/wp-content/uploads/2024/02/IMG_0790-scaled.jpg
END:VEVENT
END:VCALENDAR