BEGIN:VCALENDAR
VERSION:2.0
PRODID:-//Hub of Consciousnes - ECPv6.2.9//NONSGML v1.0//EN
CALSCALE:GREGORIAN
METHOD:PUBLISH
X-WR-CALNAME:Hub of Consciousnes
X-ORIGINAL-URL:https://hubofconsciousness.com
X-WR-CALDESC:Events for Hub of Consciousnes
REFRESH-INTERVAL;VALUE=DURATION:PT1H
X-Robots-Tag:noindex
X-PUBLISHED-TTL:PT1H
BEGIN:VTIMEZONE
TZID:Asia/Dubai
BEGIN:STANDARD
TZOFFSETFROM:+0400
TZOFFSETTO:+0400
TZNAME:+04
DTSTART:20240101T000000
END:STANDARD
END:VTIMEZONE
BEGIN:VEVENT
DTSTART;TZID=Asia/Dubai:20240427T173000
DTEND;TZID=Asia/Dubai:20240427T203000
DTSTAMP:20260421T231512
CREATED:20240420T102437Z
LAST-MODIFIED:20240420T102437Z
UID:1000464-1714239000-1714249800@hubofconsciousness.com
SUMMARY:Workshop Content of Karuna Reiki for Karma-Soul-DNA Healing
DESCRIPTION:Karuna Reiki works on the foundation of ‘Karuna’ which means compassion. And compassion is the ultimate secret to healing\, whether it is for oneself or for the other. Karuna Reiki empowers the practitioner to use powerful healing symbols that directly work on the soul and DNA/genetic level\, thereby\, resolving deep rooted issues causing problems in relationships\, finances\, health and even spirituality. The Karuna Reiki symbols take one to a deep Delta state of brainwave which is the state at which karmic patterns can change. \nBenefits:\nThe purging of past\, present and future karma happens only by healing and resolving the karmas which can be achieved through Karuna Reiki.\nThe body can identify and let go of old patterns and behaviours with the aid of this deep healing.\nSomatic memories which unintentionally influence our physical bodies can be released at the cellular level with Karuna Reiki and healthy patterns are established after the suppressed thoughts or emotions are released through Karuna Reiki healing.\nIt enables us to develop healthier responses to current life circumstances and helps us tackle issues as it happens.\nIn addition to genetic imprints\, each one of us have unique karmic patterns which can only be changed through Karma Healing to raise ourselves to our highest potential and lead a life of contentment.\nThe practitioner gets attunement from Karuna Reiki Grandmaster & Spiritual Scientist Dr. Uday Shah
URL:https://hubofconsciousness.com/event/workshop-content-of-karuna-reiki-for-karma-soul-dna-healing/
CATEGORIES:Workshops
ATTACH;FMTTYPE=image/jpeg:https://hubofconsciousness.com/wp-content/uploads/2024/04/IMG-20240413-WA0012-scaled.jpg
END:VEVENT
END:VCALENDAR