BEGIN:VCALENDAR
VERSION:2.0
PRODID:-//Hub of Consciousnes - ECPv6.2.9//NONSGML v1.0//EN
CALSCALE:GREGORIAN
METHOD:PUBLISH
X-WR-CALNAME:Hub of Consciousnes
X-ORIGINAL-URL:https://hubofconsciousness.com
X-WR-CALDESC:Events for Hub of Consciousnes
REFRESH-INTERVAL;VALUE=DURATION:PT1H
X-Robots-Tag:noindex
X-PUBLISHED-TTL:PT1H
BEGIN:VTIMEZONE
TZID:Asia/Dubai
BEGIN:STANDARD
TZOFFSETFROM:+0400
TZOFFSETTO:+0400
TZNAME:+04
DTSTART:20240101T000000
END:STANDARD
END:VTIMEZONE
BEGIN:VEVENT
DTSTART;TZID=Asia/Dubai:20241117T100000
DTEND;TZID=Asia/Dubai:20241117T170000
DTSTAMP:20260422T221318
CREATED:20240817T150454Z
LAST-MODIFIED:20240817T150454Z
UID:1001750-1731837600-1731862800@hubofconsciousness.com
SUMMARY:EARTHING TUNING FORK PRACTITIONER TRAINING
DESCRIPTION:  \nWould you like to: \n\nHelp your clients deal with stress and feel deeply relaxed?\nAssist clients who suffer from depression so they feel uplifted and energised instead?\nHelp clients who suffer with insomnia have far deeper sleep?\nHelp your clients feel more balanced\, expanded\, and more in tune with their body & its wisdom?\nLearn how to become a tuning fork practitioner with just 5 tuning forks?\nLearn the best meridian points and energy centres for de-stressing\, centering\, grounding & uplifting?\nLearn a series of simple\, yet profound techniques that can easily be used at expos\, festivals and live events too?\nHarness the power of what NASA gives their astronauts?\nHelp your clients clear the negative impact of EMF radiation caused by the use of technology e.g. phones\, tablets\, computers etc?\nKnow the benefits of important frequencies for humanity at this time?\nLearn how these relate to our DNA\, Da Vinci and the Earth?\nHelp your clients experience a deeper connection with their spiritual self and the Earth?\nAssist your clients to shift out of their mind & into their body so they can experience more comfort & peace?\n\n­ \n\nWho is this training for? \nThis training is ideal for health & wellness practitioners who assist clients to improve their holistic relationship with themselves\, e.g. Massage\, Acupuncture\, Breath Practitioners\, Cranio Sacral\, Reiki\, Pranic Healing\, Hypnotherapy\, Trauma Release Practitioners\, Chiropractic\, Osteopathy\, Physiotherapists\, Psychotherapists etc. \n­ \nIn today’s Western world\, it’s easy to get out of balance or overwhelmed by the stresses of a busy lifestyle\, or technology that can negatively impact us\, that may interfere with our body’s energy levels.  This can mean we get tired more easily\, struggling to get through the day and need to perk ourselves up with cups of coffee; or maybe we get too affected by other people’s emotional states\, or get ungrounded\, thinking too much\, which can lead to us being out of touch with our bodies\, forgetting to drink when we’re thirsty\, or eating food that isn’t what our body actually wants.  In a society that encourages us to always be at our best\, we may then just push down that stress and upset emotions and just keep going\, and when this is left and not dealt with or unexpressed\, this can often lead to health problems and more serious dis-ease later on. \nYou’re invited to learn a simple\, yet profound tuning fork technique with just 5 tuning forks. Great for rebalancing\, energising\, uplifting\, and earthing. Give Sonic Bliss to your clients! \n“Using the Earthing Tuning Forks as a trainee practitioner\, I’ve had a 94% success rate with clients enjoying the treatment.  Feedback has included comments like: “I feel so peaceful”\, “My mind is calmer”\, “My neck pain has gone”\, “I slept very well that night”\, “I’m less anxious” etc.  I see a direct connection with calming the mind\, less anxious mind chatter which depletes the Spleen Qi which then tonifies the spleen and removes damp (from a Traditional Chinese Medicine perspective.  I’m definitely very excited about the potential here\, obviously early days\, but so far incredible!!” – Chris M. Earthing Fork Practitioner Student & Acupuncturist (UK) \n\nBenefits from an Earthing tuning forks session may include:- \n\nDeep relaxation and release of inner organ tension\nMore peace-full mind\nRebalances sleep/wake cycles & giving deeper and more restful sleep\nRebalances both hemispheres/sides of the brain\nIncreases energy flow through the body due to stimulated ATP production\nEases muscle tension\nBalances body metabolism and body temperature\nDeeper levels of centeredness and grounding\nBoosts immunity\nGreat for relief of stress and anxiety\nUplifts our mood & alleviates depression\nEnables a deeper connection with our body & feeling more in tune with its wisdom e.g. food\, water consumption etc\nAnti-inflammatory (85% of disease caused by inflammation and lack of Earthing)\nBoosts melatonin levels to give an EMF protective effect if clients use a lot of technology\nAnti-ageing effect due to boosting free radical scavenging\nRegulates heart beat & blood pressure\nImproves blood circulation\nSupportive for wound healing & cellular regeneration\nGives spiritual attunement and deeper states of unity\nA deeper feeling of bliss in the body\, especially when combined with healing intention!\n\n­ \n\nTRAINING CONTENT \n\nWhat is Sound?\nTuning Forks\nWhat is Earthing?\nWhat can cause lack of grounding?\nUnderstand the Science behind frequencies\nLearn how to use the forks\nLearn about Meridian Points\nLearn about key energy centers\nLearn about harmonizing with the voice\nPreparation for you to conduct sessions\nHow to conduct 10 minute\, 30 minute and 1 hour sessions\nAnd many other transformational tools\n\n  \n\nTAKEAWAYS: \n\n120 page practitioner manual PDF\nEarthing tuning forks Practitioner Certificate\nCourse resources: Body Maps\, Pre session audios\, Earthing audios and more\n\n \n\nMEET YOUR INSTRUCTOR: EISHI-RA \n \nEeshi-Ra is based in Bali and has been one of the teachers of the Globe Sound & Consciousness Institute in San Francisco (USA) teaching students online.   She has been an international speaker for over 16 years\, presenting at different expos\, conferences\, alternative healing & evolutionary events\, community gatherings and festivals.  Eeshi-Ra offers sound healing training & mentoring for both individuals and sound healing practitioners/workshop facilitators who have an interest in healing the body using the voice \nEeshi-Ra’s sound healing work seeks to move beyond old paradigms and harness the profound potency of the frequencies of the Zobet  that can help us tune you in on every level because they are based on the Blueprint of the Universe.  Her discovery is revealed in Jason O’Hara’s book “The Blueprint of Creation”.   Drawing on her experience as a singer\, empath\, rebirthing/trauma release breath facilitator\, ceremonial dancer and trauma release bodyworker\, she emphasises the power of sound with intention\, breath & movement to free our mind\, body and spirit! \n\nTRAINING SCHEDULE & DETAILS  \n 🗓 Dates: 16 & 17 NOVEMBER 2024 \n⏰ Timings: 10:00 – 5:00 pm (GST) \n ✨Investment: AED 2\,000 + VAT \n Convert into 4 easy installments with TABBY \n 📍Venue: Hub of Consciousness\, Al Barsha 3\, Dubai
URL:https://hubofconsciousness.com/event/earthing-tuning-fork-practitioner-training-3/
CATEGORIES:Trainings
ATTACH;FMTTYPE=image/jpeg:https://hubofconsciousness.com/wp-content/uploads/2024/07/Certified-Tuning-Fork-Sound-Healing-Therapy-Training-In-Rishikesh-India.jpeg
END:VEVENT
END:VCALENDAR