BEGIN:VCALENDAR
VERSION:2.0
PRODID:-//Hub of Consciousnes - ECPv6.2.9//NONSGML v1.0//EN
CALSCALE:GREGORIAN
METHOD:PUBLISH
X-ORIGINAL-URL:https://hubofconsciousness.com
X-WR-CALDESC:Events for Hub of Consciousnes
REFRESH-INTERVAL;VALUE=DURATION:PT1H
X-Robots-Tag:noindex
X-PUBLISHED-TTL:PT1H
BEGIN:VTIMEZONE
TZID:Asia/Dubai
BEGIN:STANDARD
TZOFFSETFROM:+0400
TZOFFSETTO:+0400
TZNAME:+04
DTSTART:20240101T000000
END:STANDARD
END:VTIMEZONE
BEGIN:VEVENT
DTSTART;TZID=Asia/Dubai:20240915T100000
DTEND;TZID=Asia/Dubai:20240915T170000
DTSTAMP:20260423T030909
CREATED:20240311T101705Z
LAST-MODIFIED:20240817T112318Z
UID:1000316-1726394400-1726419600@hubofconsciousness.com
SUMMARY:Access Facelift® Certified Training
DESCRIPTION:The Access Energetic Facelift is a wonderful way to rejuvenate the face and reverse the signs of aging on the face and throughout the entire body. The gentle soothing touch applied to your face and neck works with your body’s cells to restore\, enliven and rejuvenate. \n  \nAccess Energetic Facelift is a gentle yet dynamic hands-on body process that can deepen and quicken the body’s natural healing capacities while undoing the signs of aging on the face and throughout the entire body. Access Facelift is a non-invasive\, non-surgical\, hands-on technique free of creams\, injections and chemicals of any kind. \n  \nPeople have reported changes in the following: \n\nThe light and luminosity of the face\nElasticity of the skin\nClarity of the eyes\nGlow in the hair\nLifting of breasts and buttocks\nImproved energy\nIncreased relaxation\n\nOnce we get rid of the judgments we project at our faces and bodies daily in the mirror\, our body has the space to regenerate itself. \n\n\n\n\n\n\nWhat can the Access Energetic Facelift™ create for you?\n\n\n\n\n\n\n\n\n\n\n\n\n\n\n\n\n\n\n\n\n\n\n\n\n\n\n\n\n\n\n\n\n\n\n\n\n\n\n\n\n\n\n\n\n\n\n\n\nWHAT HAPPENS DURING THE TRAINING? \n  \nThis class is a one-day\, hands-on class in which participants learn the Access Energetic Facelift and participate in gifting two sessions and receiving two sessions. During this class\, you will work with the energies in the body and face\, and while applying these\, discover what can be released. Once we get rid of the judgments we project at our faces and bodies daily in the mirror\, our body has the space to regenerate itself. \n\nWHY ATTEND THIS TRAINING? \n\n Learn the Access Energetic Facelift with a friend or two so you can gift and receive the benefits of this dynamic process on a weekly basis.\nThe Access Energetic Facelift can also be a brilliant addition to any business where you work with clients and their bodies – beauty\, wellness\, massage\, and more.\nExpand your clientele and range of services offered.\nYou can ask any question during the class! Each class is co-created with everyone who chooses to come to that particular class.\n\n\n  \nTAKEAWAYS \n\nGlobal certification to practise access facelift\nTools and techniques for transformation\n2 sessions of gifting and receiving Access Energetic Facelift\nGlobal support for practitioners business\nManual\n\n \n\nHEAR FROM OUR STUDENTS…\n  \n\n\n\nMEET YOUR INSTRUCTOR: NISHA VERMA \n \nNisha Verma is a seasoned coach and Holistic Healer with a deep-rooted passion for transforming lives. She conducts various workshops all over the world\, facilitating people from different cultures and backgrounds – to awaken to their own inner power to heal themselves. \n  \nWith 9 years  of experience\, she has guided countless individuals on their paths of self-discovery\, personal growth\, and transformation. Through a compassionate and intuitive approach\, Nisha Verma empowers participants to break free from limiting beliefs\, release old patterns\, and embrace a more conscious way of living. She fosters a supportive and nurturing environment in each workshop\, creating a space where individuals feel encouraged to explore and expand their consciousness. \n  \nShe offer privates sessions and Facilitates Practitioner Trainings for Access Bars\, Access Body Processes\, Access Energetic Facelift. Symphony Sessions\, Abuse Hold are also offered\, just to mention a few. \n\n­TRAINING SCHEDULE & DETAILS  \n Dates: 15 SEPTEMBER 2024 \n Timings: 10:00 am – 5:00 pm (GST) \n Investment: AED 2\,150 (+ 5 %VAT) – Convert into 4 easy installments with TABBY \n Venue: Hub of Consciousness\, Al Barsha 3\, Dubai \nYou can book a 20 Minute complimentary Consultation to Learn More!
URL:https://hubofconsciousness.com/event/access-facelift-training-with-nisha-7/
CATEGORIES:Trainings
ATTACH;FMTTYPE=image/jpeg:https://hubofconsciousness.com/wp-content/uploads/2024/03/IMG_20230625_174859-scaled.jpg
END:VEVENT
END:VCALENDAR