BEGIN:VCALENDAR
VERSION:2.0
PRODID:-//Hub of Consciousnes - ECPv6.2.9//NONSGML v1.0//EN
CALSCALE:GREGORIAN
METHOD:PUBLISH
X-WR-CALNAME:Hub of Consciousnes
X-ORIGINAL-URL:https://hubofconsciousness.com
X-WR-CALDESC:Events for Hub of Consciousnes
REFRESH-INTERVAL;VALUE=DURATION:PT1H
X-Robots-Tag:noindex
X-PUBLISHED-TTL:PT1H
BEGIN:VTIMEZONE
TZID:Asia/Dubai
BEGIN:STANDARD
TZOFFSETFROM:+0400
TZOFFSETTO:+0400
TZNAME:+04
DTSTART:20240101T000000
END:STANDARD
END:VTIMEZONE
BEGIN:VEVENT
DTSTART;TZID=Asia/Dubai:20240913T160000
DTEND;TZID=Asia/Dubai:20240913T200000
DTSTAMP:20260423T030605
CREATED:20240311T095153Z
LAST-MODIFIED:20240817T084002Z
UID:1000311-1726243200-1726257600@hubofconsciousness.com
SUMMARY:Access Body Process - Correcting Vision with Nisha Verma
DESCRIPTION:What are you and your body choosing?\nWhat if embodiment was about the joy of it: the ease\, joy\, and glory? \n\nAn Access Consciousness Body Process is a hands-on method that uses different hand placements on various positions on the body while asking specific energies to run at each spot. These processes facilitate the body back into its original functions\, which assist with the repairing and longevity of the body. The energies are the natural energies that bodies are and have access to from everywhere in the universe. \n \n\nWHAT IS ACCESS VISION CORRECTION? \nDo you ever get tired and dry eyes\, fatigue\, blurring\, headaches\, occasionally double vision\, and other eye issues?  \n  \nThe Correcting Vision Process from Access Consciousness developed by Gary Douglas works on the molecular and cellular structure of the eyes. It has 16 nurturing energy frequencies when activated\, facilitates the release of emotions and pains the eyes might have witnessed and stored cellular\, dissipates past belief systems\, and releases traumatic experiences to the eyes. These high vibrational energies invite the cellular structure to not only heal\, rejuvenate and renew the physical eyes but also promote increased awareness and transform how you SEE the world. Running this process can also help clear points of view and the bio-energetic field caused by emotional blockages and environmental pollution. \n  \nWHAT WILL YOU LEARN DURING THIS CERTIFIED WORKSHOP? \n\n16 potent energies to tenderly clear all vision-related issues\n Benefits Glaucoma and sinus issues\n Delete beliefs and judgments about Vision and aging\n Enhance your inner vision and improve your perceptive capacity\n Hands-on therapy to relax and heal the eyes\n Used for cataracts on animal\n Release traumatic experiences stored in the vision\n\n  \n\n\n\nAccess Vision Correction ® not only helps improve vision…\n  \n\n\n\n\n…but it can also provide relief from other ailments related to the eye area and sinuses\, such as: \n– Eye strain: Reduces fatigue and tension after prolonged use of screens. \n– Dry eyes: Improving circulation can support the natural lubrication of the eyes. \n– Eye strain headaches: Releasing tension can provide relief from headaches. \n– Bags and dark circles under the eyes: Improving blood circulation can reduce puffiness and dark circles. \n– Muscle tension around the eyes: Muscle relaxation can improve eye comfort and health. \n– Sinus health: By improving circulation and reducing tension\, the technique can provide relief from sinus conditions such as sinus congestion and sinus pain. \n\n\n\nTAKEWAYS: \n \n  \n\nYou will be Certified by ACCESS CONSCIOUSNESS as a ACCESS VISION CORRECTION Body Process Practitioner\nReceive a Manual\n\n  \n\nMEET YOUR INSTRUCTOR: NISHA VERMA \n \nNisha Verma is a seasoned coach and Holistic Healer with a deep-rooted passion for transforming lives. She conducts various workshops all over the world\, facilitating people from different cultures and backgrounds – to awaken to their own inner power to heal themselves. \n  \nWith 9 years  of experience\, she has guided countless individuals on their paths of self-discovery\, personal growth\, and transformation. Through a compassionate and intuitive approach\, Nisha Verma empowers participants to break free from limiting beliefs\, release old patterns\, and embrace a more conscious way of living. She fosters a supportive and nurturing environment in each workshop\, creating a space where individuals feel encouraged to explore and expand their consciousness. \n  \nShe offer privates sessions and Facilitates Practitioner Trainings for Access Bars\, Access Body Processes\, Access Energetic Facelift. Symphony Sessions\, Abuse Hold are also offered\, just to mention a few. \n\nTRAINING SCHEDULE & DETAILS  \n Dates: 13 September\, 2024 \n Timings: 04:00 pm – 8:00 pm (GST) \n Investment: AED 600 (+ 5 %VAT)  \n Venue: Hub of Consciousness\, Al Barsha 3\, Dubai \nBook a 20 Minute complimentary Consultation to Learn More!
URL:https://hubofconsciousness.com/event/access-body-process-correcting-vision-with-nisha-verma-5/
CATEGORIES:Trainings
END:VEVENT
END:VCALENDAR