BEGIN:VCALENDAR
VERSION:2.0
PRODID:-//Hub of Consciousnes - ECPv6.2.9//NONSGML v1.0//EN
CALSCALE:GREGORIAN
METHOD:PUBLISH
X-ORIGINAL-URL:https://hubofconsciousness.com
X-WR-CALDESC:Events for Hub of Consciousnes
REFRESH-INTERVAL;VALUE=DURATION:PT1H
X-Robots-Tag:noindex
X-PUBLISHED-TTL:PT1H
BEGIN:VTIMEZONE
TZID:Asia/Dubai
BEGIN:STANDARD
TZOFFSETFROM:+0400
TZOFFSETTO:+0400
TZNAME:+04
DTSTART:20240101T000000
END:STANDARD
END:VTIMEZONE
BEGIN:VEVENT
DTSTART;TZID=Asia/Dubai:20240817T100000
DTEND;TZID=Asia/Dubai:20240817T170000
DTSTAMP:20260423T043737
CREATED:20240311T103002Z
LAST-MODIFIED:20240729T084819Z
UID:1000319-1723888800-1723914000@hubofconsciousness.com
SUMMARY:USUI Reiki Level 4 Certified Training
DESCRIPTION:Reiki Master Teacher Level 4 \nThe Reiki Master Teacher Training is aimed at Reiki practitioners who want to take their knowledge and practice to the next level and go on to start a business and teach others. You’ll learn how to deeply ingrain Reiki into your everyday life\, live by the Reiki Principles\, and make a lifelong commitment to your own personal and spiritual development. \nAfter this class you will become a certified Reiki Master Teacher so you can now teach Reiki to others. You will be able to take independent classes of Reiki as you will learn the attunement process along with all important topics covered in all levels. It’s a 2 days comprehensive course to train and practice to become a Master Teacher. \nWhat Happens in Reiki Training: \n\nAttunement process for Reiki Level 1\,2 & 3\nSpace cleansing process – Preparing attunement room\nConnection with guides/Angels\nTeaching skills\nPsychic abilities & reiki\nMeditations scripts & practice for reiki classes and events\nTopics covered in all levels of reiki\nEssentials of manual writing for courses\n\n  \nReiki Level 4: \n\nObtain an accredited Advanced Reiki Master Teacher Certificate\nLearn how to perform Student Attunement Ceremonies\nUse provided material to create your own Reiki certification course\nBrainstorm ideas from building a course to launching your business\nBe more confident in your own gifts and abilities\nDevelop your patience and understanding to guide students\nUnderstand all the different components which make up a Reiki course\nExpand your awareness and intuition\nTeach and certify others in the beautiful form of energy healing: Reiki\nBe a beacon of light for others 🙂\n\n  \nTakeaways: \n\nReceive Level 4 Manual\nReiki Master Teacher Certification\n\n \n­ \n \nMeet Our Instructor : Shaista \nShaista is an experienced Usui Reiki Master with a deep passion for holistic healing. With over 7 years of practice\, she has honed her skills in channeling universal life energy to promote balance and well-being. Shaista is dedicated to empowering her students through personalized instruction\, creating a nurturing environment for their spiritual growth and self-discovery. Her warm and compassionate approach makes learning Usui Reiki an enriching and transformative experience. \n  \n  \n­ \nTRAINING SCHEDULE & DETAILS \n Dates: 17 & 18 August 2024 \n Timings: 10:00 am – 5:00 pm (GST) \n Investment:  AED 3969 (+ 5 %VAT) \n Convert into 4 easy installments with TABBY \n Venue: Hub of Consciousness\, Al Barsha 3\, Dubai \nYou can book a 20 Minute complimentary Consultation to Learn More! 
URL:https://hubofconsciousness.com/event/usui-reiki-level-3-certified-training-5/
CATEGORIES:Trainings
ATTACH;FMTTYPE=image/png:https://hubofconsciousness.com/wp-content/uploads/2024/01/access-bars-dubai.png
END:VEVENT
END:VCALENDAR