BEGIN:VCALENDAR
VERSION:2.0
PRODID:-//Hub of Consciousnes - ECPv6.2.9//NONSGML v1.0//EN
CALSCALE:GREGORIAN
METHOD:PUBLISH
X-ORIGINAL-URL:https://hubofconsciousness.com
X-WR-CALDESC:Events for Hub of Consciousnes
REFRESH-INTERVAL;VALUE=DURATION:PT1H
X-Robots-Tag:noindex
X-PUBLISHED-TTL:PT1H
BEGIN:VTIMEZONE
TZID:Asia/Dubai
BEGIN:STANDARD
TZOFFSETFROM:+0400
TZOFFSETTO:+0400
TZNAME:+04
DTSTART:20240101T000000
END:STANDARD
END:VTIMEZONE
BEGIN:VEVENT
DTSTART;TZID=Asia/Dubai:20240622T080000
DTEND;TZID=Asia/Dubai:20240622T170000
DTSTAMP:20260423T073101
CREATED:20240511T094510Z
LAST-MODIFIED:20240511T094510Z
UID:1000776-1719043200-1719075600@hubofconsciousness.com
SUMMARY:Become a Human Design Coach Training Level 1
DESCRIPTION:Human Design Coach: \nHuman Design is a fascinating system that combines astrology\, the I Ching\, the chakra system\, and the Kabbalah to reveal your true nature. In this course\, you will learn how to read and interpret a human design chart\, how to guide people towards knowing their inner authority and start making better decisions\, and apply your type\, profile\, and centers in everyday life to live with authenticity and purpose. \nWho can benefit from this course? \nWhether you’re a personal development enthusiast exploring out of curiosity\, or a professional looking to add these unique skills to your arsenal\, or someone eager to become a certified Human Design practitioner\, this course is for you. Anyone looking to understand themselves or their surroundings better\, this is a great tool to do so. \nWhat will you learn in this course? \n\nUnderstanding the concept of Human Design and its historical background.\nLearning how to calculate and interpret the Bodygraph\, which encompasses the Design and Personality aspects.\nFamiliarizing oneself with the different Human Design Types: Generators\, Manifesting Generators\, Manifestors\, Projectors\, and Reflectors.\nExploring Energy Types and Non-Energy Types within the Human Design framework.\nGaining insight into the Nine Centers and their significance in Human Design.\nDistinguishing between Open and Defined Centers and their implications in personal development.\nUnderstanding how conditioning manifests within the Centers and its impact on individuals’ lives.\n\n  \nTakeaways: \n\nComprehensive Manual\nCertification from Evolution Journey Academy\n\n \n \nMeet our instructor: Sarah Berjaoui \nMy name is Sarah Berjaoui\, I am a Manifesting Generator with 3 energy centers and an Emotional Authority\, a fact that provides insight into myself and my own temperament. \nHowever\, as a Manifesting Generator\, I have to hold back before responding to life’s events rather than initiating them. I came into this life to teach people how to fully feel and embrace their emotions and live a truly free and authentic life. \nMy background in Civil Engineering perfectly matches my structured brain\, while my work in Business Development in my family’s hospitality and real estate business further expands my own horizons and my passion in assisting and guiding others to understand and accept themselves on a deeper level\, which brings me joy and fulfilment. \nI am a Human Design and Gene Keys Guide as well as a yoga teacher and Family Constellation Facilitator\, an Executive Career and Relationship Coach and a family and Mental Health therapist under training. \nI am trained to use primal work for the inner child and Cognitive Behaviour Therapy in my workshops. I am also training to become a Spiritual Tantric Practitioner which is a tool that I use a lot in my Human Design Deconditioning practices. \nMy work begins by identifying and analysing your design and I then use my effective and personalized tools to guide you back to the journey of discovering your authentic self. I am highly individualist with a very determined direction and my own motivation is focused on kindness and virtue so when you work with me\, you will quickly realize that at my core center lies an intense desire to heal\, connect\, and most importantly enjoy this delightful journey called “life”\, that we are all passengers in. \nHuman Design will offer you an insightful understanding of yourself and your unique nature and at the same time\, it will provide you with valuable guidance to navigate your relationships and better connect with your partner\, your family\, your children\, and your friends. \nThe moment you accept yourself for who you truly are and allow others to be who they truly are\, you will start creating meaningful and deeper relationships. \nLet the Evolution Journey BEGIN! \nTRAINING SCHEDULE & DETAILS  \nDates: 19\, 20\, 21\,22 & 23 June \nTimings: 10:00 am – 5:00 pm (GST) \nInvestment: AED 3368 (+ 5 %VAT) \nConvert into 4 easy installments with TABBY \nVenue: Hub of Consciousness\, Al Barsha 3\, Dubai
URL:https://hubofconsciousness.com/event/become-a-human-design-coach-training-level-1-4/
CATEGORIES:Trainings
ATTACH;FMTTYPE=image/jpeg:https://hubofconsciousness.com/wp-content/uploads/2024/05/WhatsApp-Image-2024-05-08-at-6.54.38-PM-1.jpeg
END:VEVENT
BEGIN:VEVENT
DTSTART;TZID=Asia/Dubai:20240622T100000
DTEND;TZID=Asia/Dubai:20240622T170000
DTSTAMP:20260423T073101
CREATED:20231209T104800Z
LAST-MODIFIED:20240506T110028Z
UID:998039-1719050400-1719075600@hubofconsciousness.com
SUMMARY:SOUND: The Ultimate Medicine - Professional Level 1 Training With Maestro Satya
DESCRIPTION:Your 1st step towards becoming the World’s leading Sound Healing Professional. Learn the Scientific and cutting-edge Sound Healing Techniques applicable to everybody’s life for their Physical\, Mental\, Emotional\, and Spiritual Wellness. A great beginning in the field of SOUND healing for anyone aspiring to serve humanity as a SOUND healing professional with an extremely rewarding career option. \n­ \nThis training workshop features some of the finest Professional Healing Grade SOUND healing tools\, IASH Level 1 Healing Grade Singing Bowls\, simple & easy to apply with profound healing effects\, innovated by IASH after 2 decades of dedicated research. \n­ \nThe training is offered by the International Academy of Sound Healing (IASH). It provides scientifically designed techniques that are simple to use and have transformative effects on one’s life. It is suitable for both healthcare professionals and individuals aspiring to pursue a rewarding career in sound healing. The training incorporates high-quality healing- grade singing bowls developed by IASH through years of dedicated research\, offering profound healing benefits. \n­ \nLearn some of the most advanced & easy to use techniques in the Professional Level 1 training and finish the program knowing that you now are better prepared than 95% of those in this field. \n­ \nBecome the world’s leading sound healing professional with tremendous Success & Global Recognition  \n  \n­ \n\n­ \nWHAT YOU WILL LEARN: \n\nScience & philosophy of Sound Healing based on Ancient Vedic philosophy & Modern Science.\nScientific introduction to Singing Bowls: The Most Powerful SOUND Healing tool\nThe therapeutic approach to play Singing Bowls\nProfessional approach to offer sound healing “one on one session” or Group of people\, family/friends or thousands of People\nScientific explanation\, Demonstration & Hands-on Training\, Question & Answer Session of each & every therapy\nLearn Some of the most powerful & practical IASH SOUND Therapy Protocols\, developed & created by IASH over years of dedicated scientific research.\nIASH Brain Wave Relaxation Therapy\nIASH Mind Detoxification Therapy\nIASH Hand & foot Reflex zones Therapy\nIASH Aura Cleansing & Strengthening\nIASH Self-healing Technique\nIASH Group Healing Session\nIASH SOUND therapy protocols for General physical ailments\nIASH Cellular Detox Therapy\nIASH SOUND Therapy to Overcome Addiction\nIASH Sound Therapy in Pregnancy\nIASH Sound Therapy For Better Relationship\nIASH Sound Therapy for Pets car\nIASH Sound Therapy for Kids / Children\n\n­­ \nHIGHLY RECOMMENDED FOR: \n1. Any individual who wants to work as a professional Healer\, to heal & help others with the infinite healing potential of SOUND \n­ \n2. Health Care Professional: Professionals with Medical Background\, Deep Meditation & Yoga Trainers\, Nurses\, Physiotherapists\, Body Workers\, Massage Therapists\, Reiki Practitioners\, Nature Cure Doctors\, Energy Healers Music Therapists etc \n­ \n3. Sound Healing Professionals \nCredibility and credentials are necessary to be a true professional. IASH Sound therapy has been refined to do many things. Learn one of the world’s most unique training program with a highly scientific & professional approach in your quest to become a world-class SOUND healing professional with great financial rewards. \n­ \nThis Seminar will make you competent & qualified enough to work as a professional sound healer as well as help your family\, friends with their physical & emotional distress. \n­ \nCERTIFICATION & TAKEAWAYS \n\nInternational Certification from the International Academy of Sound Healing\nRecognition and Ability to become a professional Sound Healer\nStudy Material\nBecome part of a community of healing practitioners\n\n  \nHEAR FROM OUR STUDENTS: \n  \n\n  \n\n  \n\n­ \n \n  \nMEET YOUR INSTRUCTOR: MAESTRO SATYA \nMaestro Satya Brat\, the Founder of the “Academy of Sound Healing\,” is a renowned figure in the field. He has played a vital role in popularizing sound healing through his training\, global travels\, and dedication to the study of nature cure\, traditional medicine\, and sound healing. Offering intensive training in Sound Therapy since 2011\, he is an authority on the therapeutic\, spiritual\, and musical aspects of Singing Bowls and Gong Bells. Beyond his work\, he actively participates in social service and spiritual organizations\, and his knowledge is shared globally through workshops and seminars\, earning him widespread recognition. \n­ \n­ \n­ \nTRAINING SCHEDULE & DETAILS  \n Dates: June \, 21\, 22\, 23 & 24 2024 \n Timings: 10:00 am – 5:00 pm (GST) \n Investment: AED 3669 (+ 5 %VAT)  \n Convert into 4 easy installments with TABBY \n Venue: Hub of Consciousness\, Al Barsha 3\, Dubai
URL:https://hubofconsciousness.com/event/sound-the-ultimate-medicine-professional-level-1-training-with-maestro-satya-2/
LOCATION:Hub of Consciousness\, Villa 2 – 39th St – Al Barsha – Al Barsha 3 – Dubai\, Al Barsha\, United Arab Emirates
CATEGORIES:Trainings
ATTACH;FMTTYPE=image/jpeg:https://hubofconsciousness.com/wp-content/uploads/2023/08/IMG_20230626_164112-scaled.jpg
ORGANIZER;CN="Satya Brat":MAILTO:info@hubofconsciousness.com
END:VEVENT
END:VCALENDAR