BEGIN:VCALENDAR
VERSION:2.0
PRODID:-//Hub of Consciousnes - ECPv6.2.9//NONSGML v1.0//EN
CALSCALE:GREGORIAN
METHOD:PUBLISH
X-WR-CALNAME:Hub of Consciousnes
X-ORIGINAL-URL:https://hubofconsciousness.com
X-WR-CALDESC:Events for Hub of Consciousnes
REFRESH-INTERVAL;VALUE=DURATION:PT1H
X-Robots-Tag:noindex
X-PUBLISHED-TTL:PT1H
BEGIN:VTIMEZONE
TZID:Asia/Dubai
BEGIN:STANDARD
TZOFFSETFROM:+0400
TZOFFSETTO:+0400
TZNAME:+04
DTSTART:20250101T000000
END:STANDARD
END:VTIMEZONE
BEGIN:VEVENT
DTSTART;TZID=Asia/Dubai:20250111T100000
DTEND;TZID=Asia/Dubai:20250111T170000
DTSTAMP:20260422T004752
CREATED:20230918T091825Z
LAST-MODIFIED:20250104T215012Z
UID:997551-1736589600-1736614800@hubofconsciousness.com
SUMMARY:Angel Light Healing Level 1 Training
DESCRIPTION:Welcome to exciting world of Angels! \n\n\n\n\nAngels are beautiful brings of Light that have the ability to help us\, support us\, uplift us and guide us towards making decision that bring us joy and happiness. In this 2 day program\, we go on an exciting journey to discover who the angels are and how we can connect with them to receive wisdom\, healing and inspiration to walk our divine path on earth with confidence and ease.\n\n\n\n\n\nThe purpose of this program is to help you discover your innate potential to heal and awaken to your divine nature with the help and support of the Archangels in a fun\, creative and engaging manner. The Angel of Light (Level 1) Program is designed to introduce you to the wisdom of the Angelic realm\, attune you to angelic frequency & open your intuition to receive angelic wisdom.\n\n \n\n\nTakeaways:\n\n\n\n👉Angels of Light Manual prepared by Vansa Bali.\n\n\n👉Certificate of Completion as an Angel Light Practitioner’ approved by IPHM.\n\n\n\n\n\n \n\n\nWhat will you experience during the training:\n  \n\n\nConnecting with your Guardian Angel\ndiscovering their name Discovering the Angelic Realms\nLearning about the Phases of Evolution\nWitnessing healing with your Higher Self\nDiscover the 12 Chakras\nReceiving a 5th dimension Attunement with Ascended Master Melchizedek\nLearning how to channel & receives messages from the Angels.\nDiscover Your Angel Wings Working with the Archangels and Their Feminine Aspect.\nExploring how to connect with Angels in your dreams.\nExploring the Archangel Gem Rays\nDiscovering how to create Crystal Elixirs with the angels.\nLearning how to conduct powerful Angel Card readings.\nCreating your Angel Box\nDiscovering and healing with the Cosmic Diamond Violet Flame.\nFun Exercises to Clearing your Space with the Angels\nWriting to your Angel Manifesting with the Angels\nLifestyle Choices to work with the 5th Dimensional Frequency on Earth\n\n\n \n\n\n\nHow Can You Work With The Angels To Improve Your Life?\n\n\n \n\n\n\n Spiritual: Release fears to experience a clear connection with the Angelic Realm and your divine purpose.\n\n\n\n\n\n Personal Development: Explore your intuitive muscle to increase confidence and faith in taking decisive action in life.\n\n\n\n\n\n Rejuvenation: Healing emotional distress and opening 5th-dimensional qualities in the energy body with the Angels\n\n\n\n\n\n Abundance: Identifying and problem-solving lid attitude towards money\, relationships and co-creating win-win solutions with the Archangels.\n\n\n\n \n\n\n\n\n\nMeet your Instructor: Vansa\n\n\n \n\n\nVansa Bali is a acclaimed Life Coach & Holistic Therapist on a mission to Lead\, Educate & Empower people to achieve their Highest Potential. Growing up she felt a strong urge to trust her inner calling to light up the Earth with love and wisdom. Today her work has been lauded by Members of the Dubai Ministry as “Transformative & Exceptional”. She has been successfully teaching powerful healing techniques like Theta healing & Angel Healing in the GCC for the past 5 years.\n\n\n­ \nStories of Transformation \n\n\n­ \nTRAINING SCHEDULE & DETAILS  \n Dates: 11 & 12 JANUARY\, 2025 \n Timings: 10:00 am – 5:00 pm (GST) \n Investment: AED 1800 (+ 5 %VAT) \nConvert into 4 easy installments with TABBY \n Venue: Hub of Consciousness\, Al Barsha 3\, Dubai \nYou can book a 20 Minute complimentary Consultation to Learn More! 
URL:https://hubofconsciousness.com/event/angel-light-healing-level-1-training-4/
LOCATION:Hub of Consciousness\, Villa 2 – 39th St – Al Barsha – Al Barsha 3 – Dubai\, Al Barsha\, United Arab Emirates
CATEGORIES:Trainings
ATTACH;FMTTYPE=image/jpeg:https://hubofconsciousness.com/wp-content/uploads/2023/06/IMG_20221120_164934-min-scaled.jpg
ORGANIZER;CN="Vansa Bali":MAILTO:info@hubofconsciousness.com
END:VEVENT
BEGIN:VEVENT
DTSTART;TZID=Asia/Dubai:20250124T160000
DTEND;TZID=Asia/Dubai:20250124T200000
DTSTAMP:20260422T004752
CREATED:20241008T074630Z
LAST-MODIFIED:20250104T220114Z
UID:1001850-1737734400-1737748800@hubofconsciousness.com
SUMMARY:Access Body Process - Correcting Vision with Nisha
DESCRIPTION:What are you and your body choosing?\nWhat if embodiment was about the joy of it: the ease\, joy\, and glory? \n\nAn Access Consciousness Body Process is a hands-on method that uses different hand placements on various positions on the body while asking specific energies to run at each spot. These processes facilitate the body back into its original functions\, which assist with the repairing and longevity of the body. The energies are the natural energies that bodies are and have access to from everywhere in the universe. \n \n\nWHAT IS ACCESS VISION CORRECTION? \nDo you ever get tired and dry eyes\, fatigue\, blurring\, headaches\, occasionally double vision\, and other eye issues?  \n  \nThe Correcting Vision Process from Access Consciousness developed by Gary Douglas works on the molecular and cellular structure of the eyes. It has 16 nurturing energy frequencies when activated\, facilitates the release of emotions and pains the eyes might have witnessed and stored cellular\, dissipates past belief systems\, and releases traumatic experiences to the eyes. These high vibrational energies invite the cellular structure to not only heal\, rejuvenate and renew the physical eyes but also promote increased awareness and transform how you SEE the world. Running this process can also help clear points of view and the bio-energetic field caused by emotional blockages and environmental pollution. \n  \nWHAT WILL YOU LEARN DURING THIS CERTIFIED WORKSHOP? \n\n16 potent energies to tenderly clear all vision-related issues\n Benefits Glaucoma and sinus issues\n Delete beliefs and judgments about Vision and aging\n Enhance your inner vision and improve your perceptive capacity\n Hands-on therapy to relax and heal the eyes\n Used for cataracts on animal\n Release traumatic experiences stored in the vision\n\n  \n\n\n\nAccess Vision Correction ® not only helps improve vision…\n  \n\n\n\n\n…but it can also provide relief from other ailments related to the eye area and sinuses\, such as: \n– Eye strain: Reduces fatigue and tension after prolonged use of screens. \n– Dry eyes: Improving circulation can support the natural lubrication of the eyes. \n– Eye strain headaches: Releasing tension can provide relief from headaches. \n– Bags and dark circles under the eyes: Improving blood circulation can reduce puffiness and dark circles. \n– Muscle tension around the eyes: Muscle relaxation can improve eye comfort and health. \n– Sinus health: By improving circulation and reducing tension\, the technique can provide relief from sinus conditions such as sinus congestion and sinus pain. \n\n\n\nTAKEWAYS: \n \n  \n\nYou will be Certified by ACCESS CONSCIOUSNESS as a ACCESS VISION CORRECTION Body Process Practitioner\nReceive a Manual\n\n  \n\nMEET YOUR INSTRUCTOR: NISHA VERMA \n \nNisha Verma is a seasoned coach and Holistic Healer with a deep-rooted passion for transforming lives. She conducts various workshops all over the world\, facilitating people from different cultures and backgrounds – to awaken to their own inner power to heal themselves. \n  \nWith 9 years  of experience\, she has guided countless individuals on their paths of self-discovery\, personal growth\, and transformation. Through a compassionate and intuitive approach\, Nisha Verma empowers participants to break free from limiting beliefs\, release old patterns\, and embrace a more conscious way of living. She fosters a supportive and nurturing environment in each workshop\, creating a space where individuals feel encouraged to explore and expand their consciousness. \n  \nShe offer privates sessions and Facilitates Practitioner Trainings for Access Bars\, Access Body Processes\, Access Energetic Facelift. Symphony Sessions\, Abuse Hold are also offered\, just to mention a few. \n\nTRAINING SCHEDULE & DETAILS  \n Dates: 24 JANUARY 2025 \n Timings: 04:00 pm – 8:00 pm (GST) \n Investment: AED 600 (+ 5 %VAT)  \n Venue: Hub of Consciousness\, Al Barsha 3\, Dubai \nBook a 20 Minute complimentary Consultation to Learn More! 
URL:https://hubofconsciousness.com/event/access-body-process-correcting-vision-with-nisha/
CATEGORIES:Trainings
ATTACH;FMTTYPE=image/jpeg:https://hubofconsciousness.com/wp-content/uploads/2024/03/IMG_20230625_174859-scaled.jpg
END:VEVENT
BEGIN:VEVENT
DTSTART;TZID=Asia/Dubai:20250124T173000
DTEND;TZID=Asia/Dubai:20250124T203000
DTSTAMP:20260422T004752
CREATED:20231230T071943Z
LAST-MODIFIED:20250104T215533Z
UID:999431-1737739800-1737750600@hubofconsciousness.com
SUMMARY:Theta Healing Basic DNA Training With Vansa
DESCRIPTION:Welcome to the exciting world of Theta Healing®\, a powerful tool developed by Vianna Stibial in 1995 to help people evolve to their fullest potential with the pure essence of love. \nAfter witnessing her own healing over 20 years ago\, Vianna discovered that emotions and beliefs affect us on a core (early childhood)\, genetic (ancestral)\, history (group consciousness)\, and soul level (deeply held beliefs). By accessing the subconscious mind and working with the Creator of All That Is\, she found that limiting beliefs and patterns can be identified and released\, thus allowing people to enjoy harmony at a mental\, emotional\, and spiritual level. \n  \nWHY THETA-HEALING? \nBy empowering yourself through this tool\, you will feel propelled to take action toward the life you have always desired and feel guided and supported in your awakening here on earth as you foster a deep and beautiful connection with the Creator of All That Is. \nYou will have an exciting opportunity to learn how to connect with the Creator of All That Is and activate the 12 DNA strands in your body so you may access and experience Unconditional Love from the Creator \n  \nIn this class\, we will primarily focus on teaching you how to identify the four belief levels held in the subconscious and release self-limiting beliefs by pulling them out through a process called digging. You will also learn how to create feelings that you have never experienced/allowed yourself to feel previously. \n  \n\n  \nYOU WILL LEARN: \n\nCarrying out an intuitive body scan\nIdentify and change beliefs\nLearning how to manifest\nGiving a future reading\nConnecting with your guardian angels\nCo-create a healing\nActivating chakras & open your kundalini\nDiscovering the Seven Planes of Existence\nManifesting for Soul mates\nRemoving wayward and curses & pulling harmful radiation from the body\nBecoming knowledgeable about methods for healing a variety of conditions and diseases.\n\n  \nBy the end of the seminar\, you will be awarded as a certified Basic Theta Healing® Practitioner and will receive guidelines on how to kickstart your healing sessions! \n  \nTAKEAWAYS: \n\nBasic DNA Practitioner Certification\nTheata-Healing® Manual from THINK Institute.\n\n \n  \n\n\n\n\nMEET YOUR INSTRUCTOR: VANSA BALI\n\n\n \n\n\nVansa Bali is an acclaimed Life Coach & Holistic Therapist on a mission to Lead\, Educate & Empower people to achieve their Highest Potential. Growing up she felt a strong urge to trust her inner calling to light up the Earth with love and wisdom. Today her work has been lauded by Members of the Dubai Ministry as “Transformative & Exceptional”. She has been successfully teaching powerful healing techniques like Theta healing & Angel Healing in the GCC for the past 5 years.\n\n\n  \n  \n­ \nTRAINING SCHEDULE & DETAILS  \n Dates: 24\,25\,26 JANUARY 2025 \n Timings: DAY 1: 5:30- 8:30pm ; DAY 2 & 3 10:00 – 5:00 pm (GST) \n Investment: Early Bird AED 2200 (+ 5 %VAT) \n Convert into 4 easy installments with TABBY \n Venue: Hub of Consciousness\, Al Barsha 3\, Dubai \nYou can book a 20 Minute complimentary Consultation to Learn More! 
URL:https://hubofconsciousness.com/event/theta-healing-basic-dna-training-with-vansa-22/
LOCATION:Hub of Consciousness\, Villa 2 – 39th St – Al Barsha – Al Barsha 3 – Dubai\, Al Barsha\, United Arab Emirates
CATEGORIES:Trainings
ATTACH;FMTTYPE=image/jpeg:https://hubofconsciousness.com/wp-content/uploads/2023/10/IMG_0455-1-scaled.jpg
ORGANIZER;CN="Vansa Bali":MAILTO:info@hubofconsciousness.com
END:VEVENT
BEGIN:VEVENT
DTSTART;TZID=Asia/Dubai:20250125T100000
DTEND;TZID=Asia/Dubai:20250125T170000
DTSTAMP:20260422T004752
CREATED:20231230T072412Z
LAST-MODIFIED:20250104T215545Z
UID:999433-1737799200-1737824400@hubofconsciousness.com
SUMMARY:Theta Healing Basic DNA Training With Vansa
DESCRIPTION:Welcome to the exciting world of Theta Healing®\, a powerful tool developed by Vianna Stibial in 1995 to help people evolve to their fullest potential with the pure essence of love. \nAfter witnessing her own healing over 20 years ago\, Vianna discovered that emotions and beliefs affect us on a core (early childhood)\, genetic (ancestral)\, history (group consciousness)\, and soul level (deeply held beliefs). By accessing the subconscious mind and working with the Creator of All That Is\, she found that limiting beliefs and patterns can be identified and released\, thus allowing people to enjoy harmony at a mental\, emotional\, and spiritual level. \n  \nWHY THETA-HEALING? \nBy empowering yourself through this tool\, you will feel propelled to take action toward the life you have always desired and feel guided and supported in your awakening here on earth as you foster a deep and beautiful connection with the Creator of All That Is. \nYou will have an exciting opportunity to learn how to connect with the Creator of All That Is and activate the 12 DNA strands in your body so you may access and experience Unconditional Love from the Creator \n  \nIn this class\, we will primarily focus on teaching you how to identify the four belief levels held in the subconscious and release self-limiting beliefs by pulling them out through a process called digging. You will also learn how to create feelings that you have never experienced/allowed yourself to feel previously. \n  \n\n  \nYOU WILL LEARN: \n\nCarrying out an intuitive body scan\nIdentify and change beliefs\nLearning how to manifest\nGiving a future reading\nConnecting with your guardian angels\nCo-create a healing\nActivating chakras & open your kundalini\nDiscovering the Seven Planes of Existence\nManifesting for Soul mates\nRemoving wayward and curses & pulling harmful radiation from the body\nBecoming knowledgeable about methods for healing a variety of conditions and diseases.\n\n  \nBy the end of the seminar\, you will be awarded as a certified Basic Theta Healing® Practitioner and will receive guidelines on how to kickstart your healing sessions! \n  \nTAKEAWAYS: \n\nBasic DNA Practitioner Certification\nTheata-Healing® Manual from THINK Institute.\n\n \n  \n\n\n\n\nMEET YOUR INSTRUCTOR: VANSA BALI\n\n\n \n\n\nVansa Bali is an acclaimed Life Coach & Holistic Therapist on a mission to Lead\, Educate & Empower people to achieve their Highest Potential. Growing up she felt a strong urge to trust her inner calling to light up the Earth with love and wisdom. Today her work has been lauded by Members of the Dubai Ministry as “Transformative & Exceptional”. She has been successfully teaching powerful healing techniques like Theta healing & Angel Healing in the GCC for the past 5 years.\n\n\n  \n  \n­ \nTRAINING SCHEDULE & DETAILS  \n Dates: 24\,25\,26 JANUARY 2025 \n Timings: DAY 1: 5:30- 8:30pm ; DAY 2 & 3 10:00 – 5:00 pm (GST) \n Investment: Early Bird AED 2200 (+ 5 %VAT) \n Convert into 4 easy installments with TABBY \n Venue: Hub of Consciousness\, Al Barsha 3\, Dubai \nYou can book a 20 Minute complimentary Consultation to Learn More! 
URL:https://hubofconsciousness.com/event/theta-healing-basic-dna-training-with-vansa-23/
LOCATION:Hub of Consciousness\, Villa 2 – 39th St – Al Barsha – Al Barsha 3 – Dubai\, Al Barsha\, United Arab Emirates
CATEGORIES:Trainings
ATTACH;FMTTYPE=image/jpeg:https://hubofconsciousness.com/wp-content/uploads/2023/10/IMG_0455-1-scaled.jpg
ORGANIZER;CN="Vansa Bali":MAILTO:info@hubofconsciousness.com
END:VEVENT
BEGIN:VEVENT
DTSTART;TZID=Asia/Dubai:20250126T100000
DTEND;TZID=Asia/Dubai:20250126T170000
DTSTAMP:20260422T004752
CREATED:20231230T073140Z
LAST-MODIFIED:20250104T215557Z
UID:999435-1737885600-1737910800@hubofconsciousness.com
SUMMARY:Theta Healing Basic DNA Training With Vansa
DESCRIPTION:Welcome to the exciting world of Theta Healing®\, a powerful tool developed by Vianna Stibial in 1995 to help people evolve to their fullest potential with the pure essence of love. \nAfter witnessing her own healing over 20 years ago\, Vianna discovered that emotions and beliefs affect us on a core (early childhood)\, genetic (ancestral)\, history (group consciousness)\, and soul level (deeply held beliefs). By accessing the subconscious mind and working with the Creator of All That Is\, she found that limiting beliefs and patterns can be identified and released\, thus allowing people to enjoy harmony at a mental\, emotional\, and spiritual level. \n  \nWHY THETA-HEALING? \nBy empowering yourself through this tool\, you will feel propelled to take action toward the life you have always desired and feel guided and supported in your awakening here on earth as you foster a deep and beautiful connection with the Creator of All That Is. \nYou will have an exciting opportunity to learn how to connect with the Creator of All That Is and activate the 12 DNA strands in your body so you may access and experience Unconditional Love from the Creator \n  \nIn this class\, we will primarily focus on teaching you how to identify the four belief levels held in the subconscious and release self-limiting beliefs by pulling them out through a process called digging. You will also learn how to create feelings that you have never experienced/allowed yourself to feel previously. \n  \n\n  \nYOU WILL LEARN: \n\nCarrying out an intuitive body scan\nIdentify and change beliefs\nLearning how to manifest\nGiving a future reading\nConnecting with your guardian angels\nCo-create a healing\nActivating chakras & open your kundalini\nDiscovering the Seven Planes of Existence\nManifesting for Soul mates\nRemoving wayward and curses & pulling harmful radiation from the body\nBecoming knowledgeable about methods for healing a variety of conditions and diseases.\n\n  \nBy the end of the seminar\, you will be awarded as a certified Basic Theta Healing® Practitioner and will receive guidelines on how to kickstart your healing sessions! \n  \nTAKEAWAYS: \n\nBasic DNA Practitioner Certification\nTheata-Healing® Manual from THINK Institute.\n\n \n  \n\n\n\n\nMEET YOUR INSTRUCTOR: VANSA BALI\n\n\n \n\n\nVansa Bali is an acclaimed Life Coach & Holistic Therapist on a mission to Lead\, Educate & Empower people to achieve their Highest Potential. Growing up she felt a strong urge to trust her inner calling to light up the Earth with love and wisdom. Today her work has been lauded by Members of the Dubai Ministry as “Transformative & Exceptional”. She has been successfully teaching powerful healing techniques like Theta healing & Angel Healing in the GCC for the past 5 years.\n\n\n  \n  \n  \nTRAINING SCHEDULE & DETAILS  \n Dates: 24\,25\,26 JANUARY 2025 \n Timings: DAY 1: 5:30- 8:30pm ; DAY 2 & 3 10:00 – 5:00 pm (GST) \n Investment: Early Bird AED 2200 (+ 5 %VAT) \n Convert into 4 easy installments with TABBY \n Venue: Hub of Consciousness\, Al Barsha 3\, Dubai \nYou can book a 20 Minute complimentary Consultation to Learn More! 
URL:https://hubofconsciousness.com/event/theta-healing-basic-dna-training-with-vansa-24/
LOCATION:Hub of Consciousness\, Villa 2 – 39th St – Al Barsha – Al Barsha 3 – Dubai\, Al Barsha\, United Arab Emirates
CATEGORIES:Trainings
ATTACH;FMTTYPE=image/jpeg:https://hubofconsciousness.com/wp-content/uploads/2023/10/IMG_0455-1-scaled.jpg
ORGANIZER;CN="Vansa Bali":MAILTO:info@hubofconsciousness.com
END:VEVENT
BEGIN:VEVENT
DTSTART;TZID=Asia/Dubai:20250126T100000
DTEND;TZID=Asia/Dubai:20250126T170000
DTSTAMP:20260422T004752
CREATED:20250104T215945Z
LAST-MODIFIED:20250104T215945Z
UID:1002154-1737885600-1737910800@hubofconsciousness.com
SUMMARY:Family Constellation Practitioner Training Module 1
DESCRIPTION:WHAT IS FAMILY CONSTELLATIONS? \nWhen we have an issue the most logical approach is to investigate how you have caused this. If it is a health issue\, we probe into our nutrition\, lifestyle and stress levels. If it is pertaining to relationships we look into our communication\, deep-seated fear and insecurities. If it is about money and success\, we just put it on luck\, fate or if you decide to take responsibility then your endeavours. However\, not all issues begin with you and it may not be your story at all. Your health\, career\, success and relationships are greatly affected and shaped by the subconscious imprints that you carry from your family\, your ancestors apart from your childhood and your experiences. \n  \nFamily constellations is a therapeutic approach designed to help reveal the hidden. dynamics in a family or relationship in order to address any stressors impacting these relationships and heal them. Many individuals report achieving significant insight and clarity through constellation work because of the subjective therapeutic process and experiential nature of family constellations. This alternative approach was developed by German psychotherapist Bert Hellinger in the mid-1990s. Family constellations work is considered most effective in addressing concerns that are systemic in nature. These concerns might include the family of origin issues\, parent-child relationship difficulties\, and intimate relationship challenges. \n  \n\n\nABOUT OUR FAMILY CONSTELLATION TRAINING \nThe Family Constellations training\, is primarily a deep inner journey which can be taken for personal development. Trainings are specifically designed for people who wish to explore a career as Family Constellators. They are also excellent for professionals who are working with people (coaches\, therapists\, healthcare providers\, teachers\, counselors\, etc.) so they can incorporate Family Constellations into their current practice. You will be trained to use this systemic approach as a complete solution-oriented method\, to get to a phase where clients experience deep insights that generate the necessary energy for the change they are searching for. \nThis would benefit those who: \n\nAre seeking to address negative or harmful relationship patterns\nWant to attract and be in a harmonious romantic relationship\nAre attempting to resolve family entanglements\nWant to address parenting problems\nAre experiencing painful situations: betrayal\, divorce\, single parenthood\, abortions\, miscarriage\, infertility\, adoption/custody)\nWould like to break cycles of abuse\, alienation and disconnection.\nWant to uncover reasons for physical ailments\, emotional and mental suffering\nWant to help resolve health issues: Autoimmune\, depression\, anxiety\, phobias\, migraine\, chronic pain\, fibromyalgia\, digestive issues\, asthma and more.\nWant to quit addictions\nWould like to resolve Eating Disorders\nRelease unexplained blocks\nWant to overcome inner turmoil\nAre dealing with death\, loss and grief\nHave experienced significant trauma or loss\nAre in search of personal and professional success\nRegain self-esteem\, confidence\, positivity and joy\n\n\nFAMILY CONSTELLATION TRAINING STRUCTURE \n­ \nModule 1: FAMILY OF ORIGIN \n\nIntroduction to Family Constellation\nUnderstanding generational trauma\nUnderstanding Systemic approach\nThe Knowing Field and Intuitive Space\nTheoretical principals and guidelines of Systemic Phenomenology\nDifferent levels of conscience\nBelonging in the family system\nActs of Love and Loyalty\nDisturbance of chronological order and its effects on current life\nWeight of Fate\nWorking on relationship with mother and father\n\n­ \nModule 2: CURRENT FAMILY\, MARRIAGE\, RELATIONSHIPS& CHILDREN \n\nParents and children relationship and how that impacts the current relationship.\nPrincipals of Love triangles\nSpiritual divorce\, man-woman relationship\nPrevious partners and children\nAbortions and miscarriages\nUnderstanding physical and emotional abuse\nAdoptions\nAbuse and incest\nBalancing giving and taking.\n\n­ \nModule 3: PHYSICAL & MENTAL HEALING \n\nAutoimmune diseases\nAnxiety and depression\,\nAnger\, aggression and violence\nVictim – Perpetrator dynamics\nAddiction\nInclination towards death and suicide.\nFamily secrets.\nBody image distortions & Body Empathy\nEating disorders\n\n­ \nModule 4: Money\, Finance & Success \n\nIndividual and Family’s core beliefs about Money and Success\nIdentifying entanglements in family fate and identification.\nActions of Love and Loyalty that create blocks\nAn interrupted movement towards parents\nSpouses and money success\nReleasing blockages to money and wealth\nBalancing of give and take\nVictim perpetrator dynamics related to money.\nFamily secrets\nMovement of the soul\nAbstract & Structural Constellations\n\n­ \nModule 5: CERTIFICATION \n\nParticipants facilitating the constellations\n\n­­ \nCONSTELLATION SKILLS & ONE TO ONE CONSTELLATIONS  \nThis will be taught in various modules  \n\nSetting up the constellation\nFacilitator’s role and conduct\nRole of representatives\nAwareness of body movements and positions\nReality statements\nHealing statements and visualization\nClient resistance. Individual sessions with puppets\nIndividual sessions with paper\nDistance sessions\n\n\nWHY ATTEND THIS TRAINING AT HUB OF CONSCIOUSNESS? \n\n Understand your own present-day issues with the help of Systemic lens\n Gain a broader perspective on life\, relationships\, money\, diseases etc and learn one of the most exceptional healing method that caters to Trans-Generational traumas in families.\n Begin your professional Career as a family constellator\n 1:1 Mentoring provided for a month to ensure your practice is fully integrated\n IPHM Approved certification allowing you to practice internationally.\n\n\nCERTIFICATION & TAKEAWAYS \n \n  \n\nIPHM Accredited Certification\nComprehensive Training Manual\nFacilitate 1:1 Family Constellation Sessions Facilitation\nFacilitate Group Family Constellation Workshops\n\n  \n\nWHAT OUR STUDENTS… \n\n\n\n\n\n \n  \nMEET YOUR INSTRUCTOR: NAMRATA \nNamraata is a Family Constellation Trans-Generational Trauma Facilitator. She is also an intuitive energy healer and combines several modalities to bring an integrated approach to healing and empowering. She has happy clients who have been helped in many ways to overcome their issues\, transform themselves and live a life of their choice. She is also continuously studying to enhance her life and of those she touches \n\n­ \nTRAINING SCHEDULE & DETAILS  \nDATES: 25 & 26 JANUARY 2025 \nTIMES: 10:30 am – 5:30 pm (GST) \nInvestment: Early Bird AED 2250 (+ 5 %VAT)  \n –Convert into 4 easy installments with TABBY \nVenue: Hub of Consciousness\, Al Barsha 3\, Dubai \nBOOK A COMPLIMENTARY 20 MINUTE CONSULTATION!
URL:https://hubofconsciousness.com/event/family-constellation-facilitator-training-module-1-with-namrata-8-2-2/
LOCATION:Hub of Consciousness\, Villa 2 – 39th St – Al Barsha – Al Barsha 3 – Dubai\, Al Barsha\, United Arab Emirates
CATEGORIES:Trainings
ATTACH;FMTTYPE=image/jpeg:https://hubofconsciousness.com/wp-content/uploads/2024/03/IMG_2819-scaled.jpg
ORGANIZER;CN="Namrataa":MAILTO:info@hubofconsciousness.com
END:VEVENT
END:VCALENDAR