BEGIN:VCALENDAR
VERSION:2.0
PRODID:-//Hub of Consciousnes - ECPv6.2.9//NONSGML v1.0//EN
CALSCALE:GREGORIAN
METHOD:PUBLISH
X-ORIGINAL-URL:https://hubofconsciousness.com
X-WR-CALDESC:Events for Hub of Consciousnes
REFRESH-INTERVAL;VALUE=DURATION:PT1H
X-Robots-Tag:noindex
X-PUBLISHED-TTL:PT1H
BEGIN:VTIMEZONE
TZID:Asia/Dubai
BEGIN:STANDARD
TZOFFSETFROM:+0400
TZOFFSETTO:+0400
TZNAME:+04
DTSTART:20240101T000000
END:STANDARD
END:VTIMEZONE
BEGIN:VEVENT
DTSTART;TZID=Asia/Dubai:20241207T100000
DTEND;TZID=Asia/Dubai:20241207T170000
DTSTAMP:20260422T021640
CREATED:20240103T134952Z
LAST-MODIFIED:20241022T085538Z
UID:999484-1733565600-1733590800@hubofconsciousness.com
SUMMARY:USUI Reiki Level 3 Certified Training
DESCRIPTION:USUI Reiki Level 3  \nReiki attunements open and expand the energy capacity and clear energy blockages. They open a channel for the reiki energy to flow from practitioner to client. The more a practitioner uses Reiki the clearer and stronger the flow becomes. You cannot learn Reiki through reading about it. It has to be passes down from a master to student. \n\nWhat Happens in Reiki Training: \nThis training gives you the tools to begin your journey as a professional Reiki practitioner. The effectiveness of your treatment will increase by using special symbols which are passed down from the Reiki master to the student. You will also learn how to performdistant treatments and develop your intuition. You will be taught to focus and direct energy for specific conditions. \n\nReiki Level 3: \n\nLevel 3 attunement of Reiki Master Symbol\nAdvanced Healing Techniques and Meditations of Reiki\nPsychic Surgery\nCrystal Healing\nInstant Chakra Setting\nPowerful Cleansings and Energizing\nIntuitive Reiki Healings\nIntuitive Chakra Diagnosis\nMetaphysical Aspect of Healings\n\n\nTakeaways: \n\nReceive Level 3 Manual\nReiki Master Certification\n\n \n\n  \nMEET YOUR INSTRUCTOR: LINA DOUAIDI \n \nCertified professional in Integrated Clinical Hypnotherapy by EKAA India and Transpersonal Regression Therapy from TASSO institute of Holland . Focused on helping others find healing \, balance\, inner peace\, integrating lifelong mental \, emotional \, physical and spiritual health. \nHave a strong level of empathy which enabled astonishing shifts and changes in various cases with proven successful results. A preferred transpersonal life coach for adolescents and adults. \nMultilingual and sensitive to cultures \, capitalizing on previous professional experience and exposure in teaching \, training\, and communication skills to achieve a professional level of practice. \n\nTRAINING SCHEDULE & DETAILS  \n Dates: 7 & 8 December 2024 \n Timings: 10:00 am – 5:00 pm (GST) \n Investment:  AED 1599 (+ 5 %VAT) \n Convert into 4 easy installments with TABBY \n Venue: Hub of Consciousness\, Al Barsha 3\, Dubai \nYou can book a 20 Minute complimentary Consultation to Learn More! 
URL:https://hubofconsciousness.com/event/usui-reiki-level-3-certified-training/
LOCATION:Hub of Consciousness\, Villa 2 – 39th St – Al Barsha – Al Barsha 3 – Dubai\, Al Barsha\, United Arab Emirates
CATEGORIES:Trainings
ATTACH;FMTTYPE=image/jpeg:https://hubofconsciousness.com/wp-content/uploads/2024/01/Free-Photo-_-Person-conducting-reiki-therapy.jpg
ORGANIZER;CN="Shaista":MAILTO:info@hubofconsciousness.com
END:VEVENT
BEGIN:VEVENT
DTSTART;TZID=Asia/Dubai:20241208T100000
DTEND;TZID=Asia/Dubai:20241208T170000
DTSTAMP:20260422T021640
CREATED:20240103T135126Z
LAST-MODIFIED:20241022T085603Z
UID:999487-1733652000-1733677200@hubofconsciousness.com
SUMMARY:USUI Reiki Level 3 Certified Training
DESCRIPTION:USUI Reiki Level 3  \nReiki attunements open and expand the energy capacity and clear energy blockages. They open a channel for the reiki energy to flow from practitioner to client. The more a practitioner uses Reiki the clearer and stronger the flow becomes. You cannot learn Reiki through reading about it. It has to be passes down from a master to student. \n\nWhat Happens in Reiki Training: \nThis training gives you the tools to begin your journey as a professional Reiki practitioner. The effectiveness of your treatment will increase by using special symbols which are passed down from the Reiki master to the student. You will also learn how to performdistant treatments and develop your intuition. You will be taught to focus and direct energy for specific conditions. \n\nReiki Level 3: \n\nLevel 3 attunement of Reiki Master Symbol\nAdvanced Healing Techniques and Meditations of Reiki\nPsychic Surgery\nCrystal Healing\nInstant Chakra Setting\nPowerful Cleansings and Energizing\nIntuitive Reiki Healings\nIntuitive Chakra Diagnosis\nMetaphysical Aspect of Healings\n\n\nTakeaways: \n\nReceive Level 3 Manual\nReiki Master Certification\n\n \n\nMEET YOUR INSTRUCTOR: LINA DOUAIDI \n \nCertified professional in Integrated Clinical Hypnotherapy by EKAA India and Transpersonal Regression Therapy from TASSO institute of Holland . Focused on helping others find healing \, balance\, inner peace\, integrating lifelong mental \, emotional \, physical and spiritual health. \nHave a strong level of empathy which enabled astonishing shifts and changes in various cases with proven successful results. A preferred transpersonal life coach for adolescents and adults. \nMultilingual and sensitive to cultures \, capitalizing on previous professional experience and exposure in teaching \, training\, and communication skills to achieve a professional level of practice. \n\nTRAINING SCHEDULE & DETAILS  \n Dates: 7 & 8 December 2024 \n Timings: 10:00 am – 5:00 pm (GST) \n Investment:  AED 1599 (+ 5 %VAT) \n Convert into 4 easy installments with TABBY \n Venue: Hub of Consciousness\, Al Barsha 3\, Dubai \nYou can book a 20 Minute complimentary Consultation to Learn More! 
URL:https://hubofconsciousness.com/event/usui-reiki-level-3-certified-training-2/
LOCATION:Hub of Consciousness\, Villa 2 – 39th St – Al Barsha – Al Barsha 3 – Dubai\, Al Barsha\, United Arab Emirates
CATEGORIES:Trainings
ATTACH;FMTTYPE=image/jpeg:https://hubofconsciousness.com/wp-content/uploads/2024/01/Free-Photo-_-Person-conducting-reiki-therapy.jpg
ORGANIZER;CN="Shaista":MAILTO:info@hubofconsciousness.com
END:VEVENT
BEGIN:VEVENT
DTSTART;TZID=Asia/Dubai:20241213T173000
DTEND;TZID=Asia/Dubai:20241213T203000
DTSTAMP:20260422T021640
CREATED:20240226T081825Z
LAST-MODIFIED:20241022T084436Z
UID:1000202-1734111000-1734121800@hubofconsciousness.com
SUMMARY:Theta Healing Advanced with Vansa
DESCRIPTION:𝙒𝙝𝙖𝙩 𝙞𝙨 𝙏𝙝𝙚𝙩𝙖 𝙃𝙚𝙖𝙡𝙞𝙣𝙜 𝘼𝙙𝙫𝙖𝙣𝙘𝙚𝙙? \nThe advanced Theta healing course expands the information in the Basic class to encompass an in-depth understanding of the seven planes of existence that surround us. The student will learn how to shift old resentments\, vows and\ncommitments that hold them back. Learning new and advanced exercises\, students will receive empowering downloads that will bring profound shift and enlightenment. This class is a delightful experience. \n\n𝘼𝙧𝙚 𝙮𝙤𝙪 𝙧𝙚𝙖𝙙𝙮 𝙩𝙤 𝙝𝙖𝙧𝙣𝙚𝙨𝙨 𝙩𝙝𝙚 𝙥𝙤𝙬𝙚𝙧 𝙤𝙛 𝙖𝙡𝙡 𝙩𝙝𝙖𝙩 𝙞𝙨? \nThis class completes the foundational levels of ThetaHealing and is the second of the two prerequisites required to take other ThetaHealing classes. Advanced Theta-healing is filled with hundreds of downloads that enlighten. People come\naway from this class with a deeper understanding of ThetaHealing including the planes of existence\, more clarity in their intuition and connection with Creator\, and highly developed skills at doing digging work. \n\n𝘾𝙤𝙪𝙧𝙨𝙚 𝘾𝙤𝙣𝙩𝙚𝙣𝙩: \n\nThe Awakened masters\nRelease from oaths & vows\nAn in-depth understanding of the seven planes of existence\nEquations of planes of existence\nVows to be cleared\nPrograms of the planes\nAn understanding of initiations\nAdvanced healing\nAdvanced programs\nKey beliefs-Digging\nAn in-depth study of belief work\nFinding the bottom belief\nFear work\nAn in-depth study of the feeling work\nDownloads\nThe instilling of feelings\nThe three Rs\nThe release of Resentments \, Rejections and Regret\nExercise – Free floating memories-\nExercise – Baby in the womb\nExercise – The broken soul\nExercise – Second plane meets seventh plane\nExercise – Fourth plane meets seventh plane\nDNA 3 Pre – requisites\n\n\n𝙏𝙖𝙠𝙚𝙖𝙬𝙖𝙮𝙨: \n\nTheta Healing book and Theta Healing Advanced practitioners manual.\nOfficial Theta Healing practitioner certificate.\nEnlisted in the Theta healing.com official website with your personal profile as a Theta Healing Advanced Practitioner.\nManual from THINK Institute.\n\n \n\n \n  \n𝙈𝙚𝙚𝙩 𝙊𝙪𝙧 𝙄𝙣𝙨𝙩𝙧𝙪𝙘𝙩𝙤𝙧: 𝙑𝙖𝙣𝙨𝙖 𝘽𝙖𝙡𝙞 \nVansa Bali is an acclaimed Life Coach & Holistic Therapist on a mission to\nLead\, Educate & Empower people to achieve their Highest Potential. She\nhas been success fully teaching powerful healing techniques like Theta\nhealing & Angel Healing in the GCC for the past 5 years. She strongly\nbelieves that when we change our beliefs\, we create a new reality and\,\non this journey\, we are fully supported by the Creator of All That Is\n(Universal Love).powerful healing techniques like Thetahealing & Angel\nHealing in the GCC for the past 5 years \n\nTRAINING SCHEDULE & DETAILS  \n Dates: 13\, 14\, 15 December 2024 \n Timings: DAY 1:5:30- 8:30pm ; DAY 2 & 310:00 – 5:00 pm (GST) \n Investment: AED 2200 (+ 5 %VAT) –Convert into 4 easy installments with TABBY \n Venue: Hub of Consciousness\, Al Barsha 3\, Dubai \nYou can book a 20 Minute complimentary Consultation to Learn More! 
URL:https://hubofconsciousness.com/event/theta-healing-advanced-with-vansa-5/
LOCATION:Hub of Consciousness\, Villa 2 – 39th St – Al Barsha – Al Barsha 3 – Dubai\, Al Barsha\, United Arab Emirates
CATEGORIES:Trainings
ATTACH;FMTTYPE=image/png:https://hubofconsciousness.com/wp-content/uploads/2024/01/hypnotherapy-dubai.png
END:VEVENT
BEGIN:VEVENT
DTSTART;TZID=Asia/Dubai:20241214T100000
DTEND;TZID=Asia/Dubai:20241214T170000
DTSTAMP:20260422T021640
CREATED:20240226T082148Z
LAST-MODIFIED:20241022T084521Z
UID:1000201-1734170400-1734195600@hubofconsciousness.com
SUMMARY:Theta Healing Advanced with Vansa
DESCRIPTION:𝙒𝙝𝙖𝙩 𝙞𝙨 𝙏𝙝𝙚𝙩𝙖 𝙃𝙚𝙖𝙡𝙞𝙣𝙜 𝘼𝙙𝙫𝙖𝙣𝙘𝙚𝙙? \nThe advanced Theta healing course expands the information in the Basic class to encompass an in-depth understanding of the seven planes of existence that surround us. The student will learn how to shift old resentments\, vows and\ncommitments that hold them back. Learning new and advanced exercises\, students will receive empowering downloads that will bring profound shift and enlightenment. This class is a delightful experience. \n\n𝘼𝙧𝙚 𝙮𝙤𝙪 𝙧𝙚𝙖𝙙𝙮 𝙩𝙤 𝙝𝙖𝙧𝙣𝙚𝙨𝙨 𝙩𝙝𝙚 𝙥𝙤𝙬𝙚𝙧 𝙤𝙛 𝙖𝙡𝙡 𝙩𝙝𝙖𝙩 𝙞𝙨? \nThis class completes the foundational levels of ThetaHealing and is the second of the two prerequisites required to take other ThetaHealing classes. Advanced Theta-healing is filled with hundreds of downloads that enlighten. People come\naway from this class with a deeper understanding of ThetaHealing including the planes of existence\, more clarity in their intuition and connection with Creator\, and highly developed skills at doing digging work. \n\n𝘾𝙤𝙪𝙧𝙨𝙚 𝘾𝙤𝙣𝙩𝙚𝙣𝙩: \n\nThe Awakened masters\nRelease from oaths & vows\nAn in-depth understanding of the seven planes of existence\nEquations of planes of existence\nVows to be cleared\nPrograms of the planes\nAn understanding of initiations\nAdvanced healing\nAdvanced programs\nKey beliefs-Digging\nAn in-depth study of belief work\nFinding the bottom belief\nFear work\nAn in-depth study of the feeling work\nDownloads\nThe instilling of feelings\nThe three Rs\nThe release of Resentments \, Rejections and Regret\nExercise – Free floating memories-\nExercise – Baby in the womb\nExercise – The broken soul\nExercise – Second plane meets seventh plane\nExercise – Fourth plane meets seventh plane\nDNA 3 Pre – requisites\n\n\n𝙏𝙖𝙠𝙚𝙖𝙬𝙖𝙮𝙨: \n\nTheta Healing book and Theta Healing Advanced practitioners manual.\nOfficial Theta Healing practitioner certificate.\nEnlisted in the Theta healing.com official website with your personal profile as a Theta Healing Advanced Practitioner.\nManual from THINK Institute.\n\n \n\n \n  \n𝙈𝙚𝙚𝙩 𝙊𝙪𝙧 𝙄𝙣𝙨𝙩𝙧𝙪𝙘𝙩𝙤𝙧: 𝙑𝙖𝙣𝙨𝙖 𝘽𝙖𝙡𝙞 \nVansa Bali is an acclaimed Life Coach & Holistic Therapist on a mission to\nLead\, Educate & Empower people to achieve their Highest Potential. She\nhas been success fully teaching powerful healing techniques like Theta\nhealing & Angel Healing in the GCC for the past 5 years. She strongly\nbelieves that when we change our beliefs\, we create a new reality and\,\non this journey\, we are fully supported by the Creator of All That Is\n(Universal Love).powerful healing techniques like Thetahealing & Angel\nHealing in the GCC for the past 5 years \n\nTRAINING SCHEDULE & DETAILS  \n Dates: 13\, 14\, 15 December 2024 \n Timings: DAY 1:5:30- 8:30pm ; DAY 2 & 3 10:00 – 5:00 pm (GST) \n Investment: AED 2200 (+ 5 %VAT) –Convert into 4 easy installments with TABBY \n Venue: Hub of Consciousness\, Al Barsha 3\, Dubai \nYou can book a 20 Minute complimentary Consultation to Learn More! 
URL:https://hubofconsciousness.com/event/theta-healing-advanced-with-vansa-6/
LOCATION:Hub of Consciousness\, Villa 2 – 39th St – Al Barsha – Al Barsha 3 – Dubai\, Al Barsha\, United Arab Emirates
CATEGORIES:Trainings
ATTACH;FMTTYPE=image/png:https://hubofconsciousness.com/wp-content/uploads/2024/01/hypnotherapy-dubai.png
END:VEVENT
BEGIN:VEVENT
DTSTART;TZID=Asia/Dubai:20241215T100000
DTEND;TZID=Asia/Dubai:20241215T170000
DTSTAMP:20260422T021640
CREATED:20240226T084121Z
LAST-MODIFIED:20241022T084557Z
UID:1000205-1734256800-1734282000@hubofconsciousness.com
SUMMARY:Theta Healing Advanced with Vansa
DESCRIPTION:𝙒𝙝𝙖𝙩 𝙞𝙨 𝙏𝙝𝙚𝙩𝙖 𝙃𝙚𝙖𝙡𝙞𝙣𝙜 𝘼𝙙𝙫𝙖𝙣𝙘𝙚𝙙? \nThe advanced Theta healing course expands the information in the Basic class to encompass an in-depth understanding of the seven planes of existence that surround us. The student will learn how to shift old resentments\, vows and\ncommitments that hold them back. Learning new and advanced exercises\, students will receive empowering downloads that will bring profound shift and enlightenment. This class is a delightful experience. \n\n𝘼𝙧𝙚 𝙮𝙤𝙪 𝙧𝙚𝙖𝙙𝙮 𝙩𝙤 𝙝𝙖𝙧𝙣𝙚𝙨𝙨 𝙩𝙝𝙚 𝙥𝙤𝙬𝙚𝙧 𝙤𝙛 𝙖𝙡𝙡 𝙩𝙝𝙖𝙩 𝙞𝙨? \nThis class completes the foundational levels of ThetaHealing and is the second of the two prerequisites required to take other ThetaHealing classes. Advanced Theta-healing is filled with hundreds of downloads that enlighten. People come\naway from this class with a deeper understanding of ThetaHealing including the planes of existence\, more clarity in their intuition and connection with Creator\, and highly developed skills at doing digging work. \n\n𝘾𝙤𝙪𝙧𝙨𝙚 𝘾𝙤𝙣𝙩𝙚𝙣𝙩: \n\nThe Awakened masters\nRelease from oaths & vows\nAn in-depth understanding of the seven planes of existence\nEquations of planes of existence\nVows to be cleared\nPrograms of the planes\nAn understanding of initiations\nAdvanced healing\nAdvanced programs\nKey beliefs-Digging\nAn in-depth study of belief work\nFinding the bottom belief\nFear work\nAn in-depth study of the feeling work\nDownloads\nThe instilling of feelings\nThe three Rs\nThe release of Resentments \, Rejections and Regret\nExercise – Free floating memories-\nExercise – Baby in the womb\nExercise – The broken soul\nExercise – Second plane meets seventh plane\nExercise – Fourth plane meets seventh plane\nDNA 3 Pre – requisites\n\n\n𝙏𝙖𝙠𝙚𝙖𝙬𝙖𝙮𝙨: \n\nTheta Healing book and Theta Healing Advanced practitioners manual.\nOfficial Theta Healing practitioner certificate.\nEnlisted in the Theta healing.com official website with your personal profile as a Theta Healing Advanced Practitioner.\nManual from THINK Institute.\n\n \n\n \n  \n𝙈𝙚𝙚𝙩 𝙊𝙪𝙧 𝙄𝙣𝙨𝙩𝙧𝙪𝙘𝙩𝙤𝙧: 𝙑𝙖𝙣𝙨𝙖 𝘽𝙖𝙡𝙞 \nVansa Bali is an acclaimed Life Coach & Holistic Therapist on a mission to\nLead\, Educate & Empower people to achieve their Highest Potential. She\nhas been success fully teaching powerful healing techniques like Theta\nhealing & Angel Healing in the GCC for the past 5 years. She strongly\nbelieves that when we change our beliefs\, we create a new reality and\,\non this journey\, we are fully supported by the Creator of All That Is\n(Universal Love).powerful healing techniques like Thetahealing & Angel\nHealing in the GCC for the past 5 years \n\nTRAINING SCHEDULE & DETAILS  \n Dates: 13\, 14\, 15 December 2024 \n Timings: DAY 1: 5:30- 8:30pm ; DAY 2 & 310:00 – 5:00 pm (GST) \n Investment: AED 2200 (+ 5 %VAT) –Convert into 4 easy installments with TABBY \n Venue: Hub of Consciousness\, Al Barsha 3\, Dubai \nYou can book a 20 Minute complimentary Consultation to Learn More! 
URL:https://hubofconsciousness.com/event/theta-healing-advanced-with-vansa-7/
LOCATION:Hub of Consciousness\, Villa 2 – 39th St – Al Barsha – Al Barsha 3 – Dubai\, Al Barsha\, United Arab Emirates
CATEGORIES:Trainings
ATTACH;FMTTYPE=image/png:https://hubofconsciousness.com/wp-content/uploads/2024/01/hypnotherapy-dubai.png
END:VEVENT
END:VCALENDAR