BEGIN:VCALENDAR
VERSION:2.0
PRODID:-//Hub of Consciousnes - ECPv6.2.9//NONSGML v1.0//EN
CALSCALE:GREGORIAN
METHOD:PUBLISH
X-WR-CALNAME:Hub of Consciousnes
X-ORIGINAL-URL:https://hubofconsciousness.com
X-WR-CALDESC:Events for Hub of Consciousnes
REFRESH-INTERVAL;VALUE=DURATION:PT1H
X-Robots-Tag:noindex
X-PUBLISHED-TTL:PT1H
BEGIN:VTIMEZONE
TZID:Asia/Dubai
BEGIN:STANDARD
TZOFFSETFROM:+0400
TZOFFSETTO:+0400
TZNAME:+04
DTSTART:20240101T000000
END:STANDARD
END:VTIMEZONE
BEGIN:VEVENT
DTSTART;TZID=Asia/Dubai:20240804T100000
DTEND;TZID=Asia/Dubai:20240804T170000
DTSTAMP:20260423T030504
CREATED:20240226T075935Z
LAST-MODIFIED:20240729T084040Z
UID:1000195-1722765600-1722790800@hubofconsciousness.com
SUMMARY:Metaphysics & Science of Crystal Healing with Era
DESCRIPTION:  \nPowerful. Embodied. Down-to-earth. \n  \nImmerse in a transcendent crystal healing experience… without the sparkly fluff. Crystals and gemstones have been used for thousands of years as powerful healing aids. This workshop will give you a deeper understanding in one of Mother Nature’s wonderful and natural therapies\, and you’ll soon find yourself pleasantly involved in crystal energy work as part of your daily life. \n  \nNot only that\, you will learn to get in touch with your own crystalline energy and tap into the deep intuition that exists within you! \n  \n\n­ \nYOU WILL LEARN: \n💎Scientific & spiritual secrets of energy & vibration \n💎The physics & metaphysics of crystals & their properties \n💎Crystals in the Atlantean & Lemurian stories \n💎How to direct energy through & around the body \n💎Traditional colour healing properties. \n💎 How to select crystals? \n💎 How to cleanse & charge crystals \n💎 How to attune to crystals \n💎 How to make Crystal Grids \n💎 How to make Crystal Elexers \n💎 How to perform healing with crystals \n” \nTAKEAWAYS: \n𝒯𝒶𝓀𝑒𝒶𝓌𝒶𝓎𝓈: \n💎 Comprehensive Manual.\n💎 IPHM certificate. \n \n  \n\n  \n\n  \n \n  \nMEET YOUR INSTRUCTOR: ERA ARORA \nEra is the founder of Hub of Consciousness & certified in crystal healing & body work from Australia. She has been working with crystals for over 5 years now and is deeply connected with crystaline consciousness. She offers rare insights into activating the power of crystals to enhance your self transformation journey. \n­ \n\n\n­ \nTRAINING SCHEDULE & DETAILS  \nDates: 3 & 4 August \n Timings:| 10:00 am – 4:00 pm (GST) \n Investment: AED 1500 (+ 5 %VAT)  \n–Convert into 4 easy installments with TABBY \n Venue: Hub of Consciousness\, Al Barsha 3\, Dubai \nYou can book a 20 Minute complimentary Consultation to Learn More! 
URL:https://hubofconsciousness.com/event/metaphysics-of-crystals-training-advanced-3/
LOCATION:Hub of Consciousness\, Villa 2 – 39th St – Al Barsha – Al Barsha 3 – Dubai\, Al Barsha\, United Arab Emirates
CATEGORIES:Trainings
ATTACH;FMTTYPE=image/jpeg:https://hubofconsciousness.com/wp-content/uploads/2023/12/How-to-Create-a-Beautiful-Crystal-Grid-_-Ethereal-Haze.jpg
END:VEVENT
BEGIN:VEVENT
DTSTART;TZID=Asia/Dubai:20240810T100000
DTEND;TZID=Asia/Dubai:20240810T160000
DTSTAMP:20260423T030504
CREATED:20240226T074550Z
LAST-MODIFIED:20240729T084314Z
UID:1000186-1723284000-1723305600@hubofconsciousness.com
SUMMARY:Introduction To Shamanic Healing Training
DESCRIPTION:Shamanic Healing \nShamans are often called “seers” or “people who know” in their tribal language because they are involved in a system of knowledge based on first hand experience. Shamanism is not a belief system. It is based on personal experience to heal and get information. \nWhat You Will Learn In This Training? \n\nShamanic journeying aided by drumming and other techniques for experiencing shamanic state of consciousness\nHow to awaken your dormant spiritual abilities\nHow to connect with your power of nature\nShamanic Divination and Healing\nHow to connect with your power animal\nHow to restore spirit power and health How to meet your spirit helpers in non-ordinary reality\nHow to apply shamanic principles in contemporary daily life to help heal oneself\, others and the planet\n\nTakeaways: \n\nComprehensive Manual\nIPHM certificate\n\n \n \n  \n  \nMeet Our Instructor: Era Arora \nTrained by the foundation of shamanic studies \, originated by Shamanic legend Michael Harner Dr. Michael Harner pioneered the introduction of shamanism and the shamanic drum journey to contemporary life and is recognized as the\nworld leader in this movement. \n  \nTRAINING SCHEDULE & DETAILS  \n Dates: 10 & 11 August \n Timings: 10:00 – 4:00 pm (GST) \n Investment: Early Bird AED 1500 (+ 5 %VAT)  \n Convert into 4 easy installments with TABBY \n Venue: Hub of Consciousness\, Al Barsha 3\, Dubai \nYou can book a 20 Minute complimentary Consultation to Learn More!
URL:https://hubofconsciousness.com/event/introduction-to-shamanic-healing-training-4/
CATEGORIES:Trainings
ATTACH;FMTTYPE=image/jpeg:https://hubofconsciousness.com/wp-content/uploads/2024/02/IMG_4034-scaled.jpg
END:VEVENT
BEGIN:VEVENT
DTSTART;TZID=Asia/Dubai:20240811T100000
DTEND;TZID=Asia/Dubai:20240811T170000
DTSTAMP:20260423T030504
CREATED:20240226T074819Z
LAST-MODIFIED:20240729T084357Z
UID:1000191-1723370400-1723395600@hubofconsciousness.com
SUMMARY:Introduction To Shamanic Healing Training
DESCRIPTION:Shamanic Healing \nShamans are often called “seers” or “people who know” in their tribal language because they are involved in a system of knowledge based on first hand experience. Shamanism is not a belief system. It is based on personal experience to heal and get information. \nWhat You Will Learn In This Training? \n\nShamanic journeying aided by drumming and other techniques for experiencing shamanic state of consciousness\nHow to awaken your dormant spiritual abilities\nHow to connect with your power of nature\nShamanic Divination and Healing\nHow to connect with your power animal\nHow to restore spirit power and health How to meet your spirit helpers in non-ordinary reality\nHow to apply shamanic principles in contemporary daily life to help heal oneself\, others and the planet\n\nTakeaways: \n\nComprehensive Manual\nIPHM certificate\n\n \n \n  \n  \nMeet Our Instructor: Era Arora \nTrained by the foundation of shamanic studies \, originated by Shamanic legend Michael Harner Dr. Michael Harner pioneered the introduction of shamanism and the shamanic drum journey to contemporary life and is recognized as the\nworld leader in this movement. \n  \nTRAINING SCHEDULE & DETAILS  \n Dates: 10 & 11 August \n Timings: 10:00 – 4:00 pm (GST) \n Investment: Early Bird AED 1500 (+ 5 %VAT)  \n Convert into 4 easy installments with TABBY \n Venue: Hub of Consciousness\, Al Barsha 3\, Dubai \nYou can book a 20 Minute complimentary Consultation to Learn More!  \n 
URL:https://hubofconsciousness.com/event/introduction-to-shamanic-healing-training-5/
LOCATION:Hub of Consciousness\, Villa 2 – 39th St – Al Barsha – Al Barsha 3 – Dubai\, Al Barsha\, United Arab Emirates
CATEGORIES:Trainings
ATTACH;FMTTYPE=image/jpeg:https://hubofconsciousness.com/wp-content/uploads/2024/02/IMG_4034-scaled.jpg
END:VEVENT
BEGIN:VEVENT
DTSTART;TZID=Asia/Dubai:20240817T100000
DTEND;TZID=Asia/Dubai:20240817T170000
DTSTAMP:20260423T030504
CREATED:20240311T103002Z
LAST-MODIFIED:20240729T084819Z
UID:1000319-1723888800-1723914000@hubofconsciousness.com
SUMMARY:USUI Reiki Level 4 Certified Training
DESCRIPTION:Reiki Master Teacher Level 4 \nThe Reiki Master Teacher Training is aimed at Reiki practitioners who want to take their knowledge and practice to the next level and go on to start a business and teach others. You’ll learn how to deeply ingrain Reiki into your everyday life\, live by the Reiki Principles\, and make a lifelong commitment to your own personal and spiritual development. \nAfter this class you will become a certified Reiki Master Teacher so you can now teach Reiki to others. You will be able to take independent classes of Reiki as you will learn the attunement process along with all important topics covered in all levels. It’s a 2 days comprehensive course to train and practice to become a Master Teacher. \nWhat Happens in Reiki Training: \n\nAttunement process for Reiki Level 1\,2 & 3\nSpace cleansing process – Preparing attunement room\nConnection with guides/Angels\nTeaching skills\nPsychic abilities & reiki\nMeditations scripts & practice for reiki classes and events\nTopics covered in all levels of reiki\nEssentials of manual writing for courses\n\n  \nReiki Level 4: \n\nObtain an accredited Advanced Reiki Master Teacher Certificate\nLearn how to perform Student Attunement Ceremonies\nUse provided material to create your own Reiki certification course\nBrainstorm ideas from building a course to launching your business\nBe more confident in your own gifts and abilities\nDevelop your patience and understanding to guide students\nUnderstand all the different components which make up a Reiki course\nExpand your awareness and intuition\nTeach and certify others in the beautiful form of energy healing: Reiki\nBe a beacon of light for others 🙂\n\n  \nTakeaways: \n\nReceive Level 4 Manual\nReiki Master Teacher Certification\n\n \n­ \n \nMeet Our Instructor : Shaista \nShaista is an experienced Usui Reiki Master with a deep passion for holistic healing. With over 7 years of practice\, she has honed her skills in channeling universal life energy to promote balance and well-being. Shaista is dedicated to empowering her students through personalized instruction\, creating a nurturing environment for their spiritual growth and self-discovery. Her warm and compassionate approach makes learning Usui Reiki an enriching and transformative experience. \n  \n  \n­ \nTRAINING SCHEDULE & DETAILS \n Dates: 17 & 18 August 2024 \n Timings: 10:00 am – 5:00 pm (GST) \n Investment:  AED 3969 (+ 5 %VAT) \n Convert into 4 easy installments with TABBY \n Venue: Hub of Consciousness\, Al Barsha 3\, Dubai \nYou can book a 20 Minute complimentary Consultation to Learn More! 
URL:https://hubofconsciousness.com/event/usui-reiki-level-3-certified-training-5/
CATEGORIES:Trainings
ATTACH;FMTTYPE=image/png:https://hubofconsciousness.com/wp-content/uploads/2024/01/access-bars-dubai.png
END:VEVENT
BEGIN:VEVENT
DTSTART;TZID=Asia/Dubai:20240818T100000
DTEND;TZID=Asia/Dubai:20240818T170000
DTSTAMP:20260423T030504
CREATED:20240226T080900Z
LAST-MODIFIED:20240729T084844Z
UID:1000197-1723975200-1724000400@hubofconsciousness.com
SUMMARY:USUI Reiki Level 3 Certified Training
DESCRIPTION:Reiki Master Teacher Level 4 \nThe Reiki Master Teacher Training is aimed at Reiki practitioners who want to take their knowledge and practice to the next level and go on to start a business and teach others. You’ll learn how to deeply ingrain Reiki into your everyday life\, live by the Reiki Principles\, and make a lifelong commitment to your own personal and spiritual development. \nAfter this class you will become a certified Reiki Master Teacher so you can now teach Reiki to others. You will be able to take independent classes of Reiki as you will learn the attunement process along with all important topics covered in all levels. It’s a 2 days comprehensive course to train and practice to become a Master Teacher. \nWhat Happens in Reiki Training: \n\nAttunement process for Reiki Level 1\,2 & 3\nSpace cleansing process – Preparing attunement room\nConnection with guides/Angels\nTeaching skills\nPsychic abilities & reiki\nMeditations scripts & practice for reiki classes and events\nTopics covered in all levels of reiki\nEssentials of manual writing for courses\n\n  \nReiki Level 4: \n\nObtain an accredited Advanced Reiki Master Teacher Certificate\nLearn how to perform Student Attunement Ceremonies\nUse provided material to create your own Reiki certification course\nBrainstorm ideas from building a course to launching your business\nBe more confident in your own gifts and abilities\nDevelop your patience and understanding to guide students\nUnderstand all the different components which make up a Reiki course\nExpand your awareness and intuition\nTeach and certify others in the beautiful form of energy healing: Reiki\nBe a beacon of light for others 🙂\n\n  \nTakeaways: \n\nReceive Level 4 Manual\nReiki Master Teacher Certification\n\n \n­ \n \nMeet Our Instructor : Shaista \nShaista is an experienced Usui Reiki Master with a deep passion for holistic healing. With over 7 years of practice\, she has honed her skills in channeling universal life energy to promote balance and well-being. Shaista is dedicated to empowering her students through personalized instruction\, creating a nurturing environment for their spiritual growth and self-discovery. Her warm and compassionate approach makes learning Usui Reiki an enriching and transformative experience. \n  \n  \n­ \nTRAINING SCHEDULE & DETAILS \n Dates: 17 & 18 August 2024 \n Timings: 10:00 am – 5:00 pm (GST) \n Investment:  AED 3969 (+ 5 %VAT) \n Convert into 4 easy installments with TABBY \n Venue: Hub of Consciousness\, Al Barsha 3\, Dubai \nYou can book a 20 Minute complimentary Consultation to Learn More! 
URL:https://hubofconsciousness.com/event/usui-reiki-level-3-certified-training-3/
LOCATION:Hub of Consciousness\, Villa 2 – 39th St – Al Barsha – Al Barsha 3 – Dubai\, Al Barsha\, United Arab Emirates
CATEGORIES:Trainings
ATTACH;FMTTYPE=image/jpeg:https://hubofconsciousness.com/wp-content/uploads/2024/01/Free-Photo-_-Person-conducting-reiki-therapy.jpg
END:VEVENT
END:VCALENDAR