BEGIN:VCALENDAR
VERSION:2.0
PRODID:-//Hub of Consciousnes - ECPv6.2.9//NONSGML v1.0//EN
CALSCALE:GREGORIAN
METHOD:PUBLISH
X-ORIGINAL-URL:https://hubofconsciousness.com
X-WR-CALDESC:Events for Hub of Consciousnes
REFRESH-INTERVAL;VALUE=DURATION:PT1H
X-Robots-Tag:noindex
X-PUBLISHED-TTL:PT1H
BEGIN:VTIMEZONE
TZID:Asia/Dubai
BEGIN:STANDARD
TZOFFSETFROM:+0400
TZOFFSETTO:+0400
TZNAME:+04
DTSTART:20220101T000000
END:STANDARD
END:VTIMEZONE
BEGIN:VEVENT
DTSTART;TZID=Asia/Dubai:20221122T180000
DTEND;TZID=Asia/Dubai:20221122T190000
DTSTAMP:20260420T035720
CREATED:20221106T123910Z
LAST-MODIFIED:20221106T123910Z
UID:995410-1669140000-1669143600@hubofconsciousness.com
SUMMARY:Salsa Therapy Taster Session by Fuddz
DESCRIPTION:“Salsa Therapy” is a journey of a fascinating dance therapy that helps us keep our mind body and soul in harmony as dancing is one of the closest forms of art to nature. \n\nNot only is it extremely therapeutic\, but it’s also an adrenal rush that totally elevates your spirits and energy like no other!\nThe upbeat nature helps cope with stress\, anxiety\, self-confidence and also serves as a perfect natural body workout.\nYou dance without fear or judgement.\n\n\n\nWhy try salsa therapy?\n\n1. Closest form of an art to the universe – Very therapeutic\n2. Excellent form of a natural workout\n3. Absolute stress buster\n4. Confidence booster\n5. Improves psychological well being\n6. Enhances social skills\n7. Outstanding method networking\n8. Increases brain power – Cognitive function\n9. Less expensive than therapy\n10. Dancing is an attractive ingredient for both sexes\n11. Removes fear
URL:https://hubofconsciousness.com/event/salsa-therapy-taster-session-by-fuddz-2/
CATEGORIES:Movement
END:VEVENT
BEGIN:VEVENT
DTSTART;TZID=Asia/Dubai:20221118T190000
DTEND;TZID=Asia/Dubai:20221118T200000
DTSTAMP:20260420T035720
CREATED:20221106T123837Z
LAST-MODIFIED:20221106T123837Z
UID:995409-1668798000-1668801600@hubofconsciousness.com
SUMMARY:Salsa Therapy Taster Session by Fuddz
DESCRIPTION:“Salsa Therapy” is a journey of a fascinating dance therapy that helps us keep our mind body and soul in harmony as dancing is one of the closest forms of art to nature. \n\nNot only is it extremely therapeutic\, but it’s also an adrenal rush that totally elevates your spirits and energy like no other!\nThe upbeat nature helps cope with stress\, anxiety\, self-confidence and also serves as a perfect natural body workout.\nYou dance without fear or judgement.\n\n\n\nWhy try salsa therapy?\n\n1. Closest form of an art to the universe – Very therapeutic\n2. Excellent form of a natural workout\n3. Absolute stress buster\n4. Confidence booster\n5. Improves psychological well being\n6. Enhances social skills\n7. Outstanding method networking\n8. Increases brain power – Cognitive function\n9. Less expensive than therapy\n10. Dancing is an attractive ingredient for both sexes\n11. Removes fear
URL:https://hubofconsciousness.com/event/salsa-therapy-taster-session-by-fuddz/
CATEGORIES:Movement
END:VEVENT
BEGIN:VEVENT
DTSTART;TZID=Asia/Dubai:20221116T103000
DTEND;TZID=Asia/Dubai:20221116T114500
DTSTAMP:20260420T035720
CREATED:20221104T182107Z
LAST-MODIFIED:20221106T132116Z
UID:995371-1668594600-1668599100@hubofconsciousness.com
SUMMARY:Yoga for grief & Loss by Nassima
DESCRIPTION:“Our thoughts create our feelings and our bodies experience\, hold and express these feelings” \n  \nIn this specialized yoga classes\, you will practice different yoga shapes\, movements and breathing techniques that will help you become more aware of both your mind and body and the intimate connection between the two of them.  \nIt is a slow-paced yoga session that helps you connect to yourself\, identify tension and perhaps release it in a safe and non-judgmental space.  \nThe session ends with a restorative pose and a short-guided relaxation. \nAfter the class\, you will feel energized\, lighter and grounded. \n   \nWhat is grief? \nGrief is a normal process that follows any kind of loss\, not necessarily a death. \n  \nWe might grieve because we lost our job\, a friendship\, we grieve after a breakup or a divorce\, retirement\, loss of health\, death of a pet\, we lost something precious to us … Even subtle losses in life can trigger a sense of grief. We might grieve after moving away from home\, or grieve because your kids left home… \n  \nThere are ways to help cope with the pain\, come to terms with your grief\, and eventually\, find a way to pick up the pieces and move on with your life. \n  \nHow can yoga help? \nGrief affects us physically\, mentally\, cognitively\, emotionally and spiritually. \n  \nYoga support us in being with and moving through acute long term effects of grief in each of these areas creating space for new growth. We experience the effects of each pose in the physical body\, the energy and mental bodies\, intellectually\, emotionally and on deep levels of intuition and beyond. \n  \nThe mindfulness of movement combined with the breath teaches us to be present and to accept where we are right now. It teaches us to adjust\, adapt and accommodate to maintain our comfortable posture\, not only on the yoga mat\, but in our daily lives as well.
URL:https://hubofconsciousness.com/event/yoga-for-grief-loss-by-nassima-3/
CATEGORIES:Movement
END:VEVENT
BEGIN:VEVENT
DTSTART;TZID=Asia/Dubai:20221115T180000
DTEND;TZID=Asia/Dubai:20221115T190000
DTSTAMP:20260420T035720
CREATED:20221106T123328Z
LAST-MODIFIED:20221106T123328Z
UID:995403-1668535200-1668538800@hubofconsciousness.com
SUMMARY:Salsa Therapy Batch 1 Session 1 by Fuddz
DESCRIPTION:“Salsa Therapy” is a journey of a fascinating dance therapy that helps us keep our mind body and soul in harmony as dancing is one of the closest forms of art to nature. \n\nNot only is it extremely therapeutic\, but it’s also an adrenal rush that totally elevates your spirits and energy like no other!\nThe upbeat nature helps cope with stress\, anxiety\, self-confidence and also serves as a perfect natural body workout.\nYou dance without fear or judgement.\n\n\n\nWhy try salsa therapy?\n\n1. Closest form of an art to the universe – Very therapeutic\n2. Excellent form of a natural workout\n3. Absolute stress buster\n4. Confidence booster\n5. Improves psychological well being\n6. Enhances social skills\n7. Outstanding method networking\n8. Increases brain power – Cognitive function\n9. Less expensive than therapy\n10. Dancing is an attractive ingredient for both sexes\n11. Removes fear
URL:https://hubofconsciousness.com/event/salsa-therapy-batch-1-session-1-by-fuddz/
CATEGORIES:Movement
END:VEVENT
BEGIN:VEVENT
DTSTART;TZID=Asia/Dubai:20221114T183000
DTEND;TZID=Asia/Dubai:20221114T193000
DTSTAMP:20260420T035720
CREATED:20221105T110149Z
LAST-MODIFIED:20221106T131859Z
UID:995386-1668450600-1668454200@hubofconsciousness.com
SUMMARY:Oriental Belly Dance with Tania Batch 1 Session 2
DESCRIPTION:Holistic belly dance incorporates the physical\, theories\, and history of belly dance\, mind\, emotions\, and energy. This will take you on a journey of discovering beauty via the choreography of the motions and the expression of femininity at its most exquisite with grace and sensuality. \n\n  \nBelly dance is an ancient artistic movement that can be performed with low or great impact. It promotes creativity\, self-assurance\, and physical awareness.\n\n  \nJoin us for the Oriental belly dancing tester classes to discover a holistic approach that combines the sensual art of belly dancing with bodywork and mindfulness practices to experience an immediate effect on your well-being and consciousness.
URL:https://hubofconsciousness.com/event/oriental-belly-dance-with-tania-batch-1-session-2/
CATEGORIES:Movement
END:VEVENT
BEGIN:VEVENT
DTSTART;TZID=Asia/Dubai:20221111T190000
DTEND;TZID=Asia/Dubai:20221111T200000
DTSTAMP:20260420T035720
CREATED:20221106T123256Z
LAST-MODIFIED:20221106T123256Z
UID:995404-1668193200-1668196800@hubofconsciousness.com
SUMMARY:Salsa Therapy Batch 1 Session 2 by Fuddz
DESCRIPTION:“Salsa Therapy” is a journey of a fascinating dance therapy that helps us keep our mind body and soul in harmony as dancing is one of the closest forms of art to nature. \n\nNot only is it extremely therapeutic\, but it’s also an adrenal rush that totally elevates your spirits and energy like no other!\nThe upbeat nature helps cope with stress\, anxiety\, self-confidence and also serves as a perfect natural body workout.\nYou dance without fear or judgement.\n\n\n\nWhy try salsa therapy?\n\n1. Closest form of an art to the universe – Very therapeutic\n2. Excellent form of a natural workout\n3. Absolute stress buster\n4. Confidence booster\n5. Improves psychological well being\n6. Enhances social skills\n7. Outstanding method networking\n8. Increases brain power – Cognitive function\n9. Less expensive than therapy\n10. Dancing is an attractive ingredient for both sexes\n11. Removes fear
URL:https://hubofconsciousness.com/event/salsa-therapy-batch-1-session-2-by-fuddz/
CATEGORIES:Movement
END:VEVENT
BEGIN:VEVENT
DTSTART;TZID=Asia/Dubai:20221109T183000
DTEND;TZID=Asia/Dubai:20221109T193000
DTSTAMP:20260420T035720
CREATED:20221105T110056Z
LAST-MODIFIED:20221106T131534Z
UID:995387-1668018600-1668022200@hubofconsciousness.com
SUMMARY:Oriental Belly Dance with Tania Batch 1 Session 1
DESCRIPTION:Holistic belly dance incorporates the physical\, theories\, and history of belly dance\, mind\, emotions\, and energy. This will take you on a journey of discovering beauty via the choreography of the motions and the expression of femininity at its most exquisite with grace and sensuality.\n  \nBelly dance is an ancient artistic movement that can be performed with low or great impact. It promotes creativity\, self-assurance\, and physical awareness.\n\n  \nJoin us for the Oriental belly dancing tester classes to discover a holistic approach that combines the sensual art of belly dancing with bodywork and mindfulness practices to experience an immediate effect on your well-being and consciousness.
URL:https://hubofconsciousness.com/event/oriental-belly-dance-with-tania-batch-1-session-1/
CATEGORIES:Movement
END:VEVENT
BEGIN:VEVENT
DTSTART;TZID=Asia/Dubai:20221109T103000
DTEND;TZID=Asia/Dubai:20221109T114500
DTSTAMP:20260420T035720
CREATED:20221104T182014Z
LAST-MODIFIED:20221106T131400Z
UID:995370-1667989800-1667994300@hubofconsciousness.com
SUMMARY:Yoga for grief & Loss by Nassima
DESCRIPTION:“Our thoughts create our feelings and our bodies experience\, hold and express these feelings” \n  \nIn this specialized yoga classes\, you will practice different yoga shapes\, movements and breathing techniques that will help you become more aware of both your mind and body and the intimate connection between the two of them.\n  \nIt is a slow-paced yoga session that helps you connect to yourself\, identify tension and perhaps release it in a safe and non-judgmental space.\n \nThe session ends with a restorative pose and a short-guided relaxation.\n \nAfter the class\, you will feel energized\, lighter and grounded. \n \n  \nWhat is grief? \nGrief is a normal process that follows any kind of loss\, not necessarily a death. \n  \nWe might grieve because we lost our job\, a friendship\, we grieve after a breakup or a divorce\, retirement\, loss of health\, death of a pet\, we lost something precious to us … Even subtle losses in life can trigger a sense of grief. We might grieve after moving away from home\, or grieve because your kids left home… \n  \nThere are ways to help cope with the pain\, come to terms with your grief\, and eventually\, find a way to pick up the pieces and move on with your life. \n  \nHow can yoga help? \nGrief affects us physically\, mentally\, cognitively\, emotionally and spiritually. \n  \nYoga support us in being with and moving through acute long term effects of grief in each of these areas creating space for new growth. We experience the effects of each pose in the physical body\, the energy and mental bodies\, intellectually\, emotionally and on deep levels of intuition and beyond. \n  \nThe mindfulness of movement combined with the breath teaches us to be present and to accept where we are right now. It teaches us to adjust\, adapt and accommodate to maintain our comfortable posture\, not only on the yoga mat\, but in our daily lives as well.
URL:https://hubofconsciousness.com/event/yoga-for-grief-loss-by-nassima-2/
CATEGORIES:Movement
END:VEVENT
BEGIN:VEVENT
DTSTART;TZID=Asia/Dubai:20221108T180000
DTEND;TZID=Asia/Dubai:20221108T190000
DTSTAMP:20260420T035720
CREATED:20221105T113012Z
LAST-MODIFIED:20221105T113012Z
UID:995400-1667930400-1667934000@hubofconsciousness.com
SUMMARY:Salsa Therapy by Fuddz
DESCRIPTION:“Salsa Therapy” is a journey of a fascinating dance therapy that helps us keep our mind body and soul in harmony as dancing is one of the closest forms of art to nature. \n\nNot only is it extremely therapeutic\, but it’s also an adrenal rush that totally elevates your spirits and energy like no other!\nThe upbeat nature helps cope with stress\, anxiety\, self-confidence and also serves as a perfect natural body workout.\nYou dance without fear or judgement.\n\n\n\nWhy try salsa therapy?\n\n1. Closest form of an art to the universe – Very therapeutic\n2. Excellent form of a natural workout\n3. Absolute stress buster\n4. Confidence booster\n5. Improves psychological well being\n6. Enhances social skills\n7. Outstanding method networking\n8. Increases brain power – Cognitive function\n9. Less expensive than therapy\n10. Dancing is an attractive ingredient for both sexes\n11. Removes fear
URL:https://hubofconsciousness.com/event/salsa-therapy-by-fuddz/
CATEGORIES:Movement
END:VEVENT
BEGIN:VEVENT
DTSTART;TZID=Asia/Dubai:20221107T190000
DTEND;TZID=Asia/Dubai:20221107T200000
DTSTAMP:20260420T035720
CREATED:20221105T105349Z
LAST-MODIFIED:20221106T131236Z
UID:995378-1667847600-1667851200@hubofconsciousness.com
SUMMARY:Oriental Belly Dance with Tania
DESCRIPTION:Holistic belly dance incorporates the physical\, theories\, and history of belly dance\, mind\, emotions\, and energy. This will take you on a journey of discovering beauty via the choreography of the motions and the expression of femininity at its most exquisite with grace and sensuality.\n \nBelly dance is an ancient artistic movement that can be performed with low or great impact. It promotes creativity\, self-assurance\, and physical awareness.\n  \nJoin us for the Oriental belly dancing tester classes to discover a holistic approach that combines the sensual art of belly dancing with bodywork and mindfulness practices to experience an immediate effect on your well-being and consciousness.
URL:https://hubofconsciousness.com/event/oriental-belly-dance-with-tania/
CATEGORIES:Movement
END:VEVENT
BEGIN:VEVENT
DTSTART;TZID=Asia/Dubai:20221102T103000
DTEND;TZID=Asia/Dubai:20221102T114500
DTSTAMP:20260420T035720
CREATED:20221104T181921Z
LAST-MODIFIED:20221104T181921Z
UID:995369-1667385000-1667389500@hubofconsciousness.com
SUMMARY:Yoga for grief & Loss by Nassima
DESCRIPTION:“Our thoughts create our feelings and our bodies experience\, hold and express these feelings” \n  \nIn this specialized yoga classes\, you will practice different yoga shapes\, movements and breathing techniques that will help you become more aware of both your mind and body and the intimate connection between the two of them. \nIt is a slow-paced yoga session that helps you connect to yourself\, identify tension and perhaps release it in a safe and non-judgmental space. \nThe session ends with a restorative pose and a short-guided relaxation. \nAfter the class\, you will feel energized\, lighter and grounded. \n  \nWhat is grief? \nGrief is a normal process that follows any kind of loss\, not necessarily a death. \n  \nWe might grieve because we lost our job\, a friendship\, we grieve after a breakup or a divorce\, retirement\, loss of health\, death of a pet\, we lost something precious to us … Even subtle losses in life can trigger a sense of grief. We might grieve after moving away from home\, or grieve because your kids left home… \n  \nThere are ways to help cope with the pain\, come to terms with your grief\, and eventually\, find a way to pick up the pieces and move on with your life. \n  \nHow can yoga help? \nGrief affects us physically\, mentally\, cognitively\, emotionally and spiritually. \n  \nYoga support us in being with and moving through acute long term effects of grief in each of these areas creating space for new growth. We experience the effects of each pose in the physical body\, the energy and mental bodies\, intellectually\, emotionally and on deep levels of intuition and beyond. \n  \nThe mindfulness of movement combined with the breath teaches us to be present and to accept where we are right now. It teaches us to adjust\, adapt and accommodate to maintain our comfortable posture\, not only on the yoga mat\, but in our daily lives as well.
URL:https://hubofconsciousness.com/event/yoga-for-grief-loss-by-nassima/
CATEGORIES:Movement
END:VEVENT
BEGIN:VEVENT
DTSTART;TZID=Asia/Dubai:20221026T180000
DTEND;TZID=Asia/Dubai:20221026T190000
DTSTAMP:20260420T035720
CREATED:20221006T151514Z
LAST-MODIFIED:20221006T151514Z
UID:995101-1666807200-1666810800@hubofconsciousness.com
SUMMARY:Salsa Therapy Taster Batch Class 2 with Fuddz
DESCRIPTION:
URL:https://hubofconsciousness.com/event/salsa-therapy-taster-batch-class-2-with-fuddz/
CATEGORIES:Movement
END:VEVENT
BEGIN:VEVENT
DTSTART;TZID=Asia/Dubai:20221017T170000
DTEND;TZID=Asia/Dubai:20221017T180000
DTSTAMP:20260420T035720
CREATED:20221006T150415Z
LAST-MODIFIED:20221006T150544Z
UID:995087-1666026000-1666029600@hubofconsciousness.com
SUMMARY:Salsa Therapy Taster Class with Fuddz
DESCRIPTION:
URL:https://hubofconsciousness.com/event/salsa-therapy-taster-class-with-fuddz-2/
CATEGORIES:Movement
END:VEVENT
BEGIN:VEVENT
DTSTART;TZID=Asia/Dubai:20221016T180000
DTEND;TZID=Asia/Dubai:20221016T190000
DTSTAMP:20260420T035720
CREATED:20221006T150128Z
LAST-MODIFIED:20221006T150128Z
UID:995083-1665943200-1665946800@hubofconsciousness.com
SUMMARY:Belly Dance with Tania
DESCRIPTION:Belly
URL:https://hubofconsciousness.com/event/belly-dance-with-tania-2/
CATEGORIES:Movement
END:VEVENT
BEGIN:VEVENT
DTSTART;TZID=Asia/Dubai:20221013T183000
DTEND;TZID=Asia/Dubai:20221013T193000
DTSTAMP:20260420T035720
CREATED:20221006T143457Z
LAST-MODIFIED:20221006T144651Z
UID:995053-1665685800-1665689400@hubofconsciousness.com
SUMMARY:Salsa Therapy Taster Class with Fuddz
DESCRIPTION:
URL:https://hubofconsciousness.com/event/salsa-therapy-taster-class-with-fuddz/
CATEGORIES:Movement
END:VEVENT
BEGIN:VEVENT
DTSTART;TZID=Asia/Dubai:20221011T183000
DTEND;TZID=Asia/Dubai:20221011T193000
DTSTAMP:20260420T035720
CREATED:20221006T143006Z
LAST-MODIFIED:20221011T124129Z
UID:995047-1665513000-1665516600@hubofconsciousness.com
SUMMARY:Belly Dance with Tania
DESCRIPTION:
URL:https://hubofconsciousness.com/event/belly-dance-with-tania/
CATEGORIES:Movement
ATTACH;FMTTYPE=image/jpeg:https://hubofconsciousness.com/wp-content/uploads/2022/08/ZUMART-DSCF0758-2.jpg
END:VEVENT
END:VCALENDAR