BEGIN:VCALENDAR
VERSION:2.0
PRODID:-//Hub of Consciousnes - ECPv6.2.9//NONSGML v1.0//EN
CALSCALE:GREGORIAN
METHOD:PUBLISH
X-ORIGINAL-URL:https://hubofconsciousness.com
X-WR-CALDESC:Events for Hub of Consciousnes
REFRESH-INTERVAL;VALUE=DURATION:PT1H
X-Robots-Tag:noindex
X-PUBLISHED-TTL:PT1H
BEGIN:VTIMEZONE
TZID:Asia/Dubai
BEGIN:STANDARD
TZOFFSETFROM:+0400
TZOFFSETTO:+0400
TZNAME:+04
DTSTART:20260101T000000
END:STANDARD
END:VTIMEZONE
BEGIN:VEVENT
DTSTART;TZID=Asia/Dubai:20260409T183000
DTEND;TZID=Asia/Dubai:20260409T193000
DTSTAMP:20260426T021850
CREATED:20260226T073539Z
LAST-MODIFIED:20260405T121257Z
UID:1003095-1775759400-1775763000@hubofconsciousness.com
SUMMARY:Emotional Reset: Cacao & Sound Healing Journey
DESCRIPTION:You’ve been holding more than you realise.\nThis is your space to release it. \nA guided evening using cacao and sound to help you soften\, let go\, and come back to yourself. \n\nThis session blends: \n✨Heart-opening cacao ritual\n✨Guided emotional release\n✨Immersive sound healing \n\nCome with curiosity. \nLeave with a new relationship to cacao — and to your own heart intelligence.
URL:https://hubofconsciousness.com/event/cacao-reimagined-a-multi-sensory-masterclass-into-the-intelligence-of-the-heart/
CATEGORIES:Meditations
ATTACH;FMTTYPE=image/jpeg:https://hubofconsciousness.com/wp-content/uploads/2026/02/WhatsApp-Image-2026-02-25-at-6.29.56-PM.jpeg
END:VEVENT
END:VCALENDAR