BEGIN:VCALENDAR
VERSION:2.0
PRODID:-//Hub of Consciousnes - ECPv6.2.9//NONSGML v1.0//EN
CALSCALE:GREGORIAN
METHOD:PUBLISH
X-ORIGINAL-URL:https://hubofconsciousness.com
X-WR-CALDESC:Events for Hub of Consciousnes
REFRESH-INTERVAL;VALUE=DURATION:PT1H
X-Robots-Tag:noindex
X-PUBLISHED-TTL:PT1H
BEGIN:VTIMEZONE
TZID:Asia/Dubai
BEGIN:STANDARD
TZOFFSETFROM:+0400
TZOFFSETTO:+0400
TZNAME:+04
DTSTART:20260101T000000
END:STANDARD
END:VTIMEZONE
BEGIN:VEVENT
DTSTART;TZID=Asia/Dubai:20260228T193000
DTEND;TZID=Asia/Dubai:20260228T203000
DTSTAMP:20260426T034819
CREATED:20260129T153637Z
LAST-MODIFIED:20260129T153637Z
UID:1003032-1772307000-1772310600@hubofconsciousness.com
SUMMARY:Theta Meditation for Inner Clarity & Emotional Release
DESCRIPTION:Theta Meditation for Inner Clarity & Emotional Release is a guided inner journey designed to help you access the theta brainwave state — a deeply relaxed state associated with subconscious healing\, emotional processing\, and intuitive clarity. \nThis immersive experience gently supports you in releasing stored emotional tension\, calming mental noise\, and reconnecting with your inner wisdom. \n\nWhat Is the Theta State?\nThe theta state is a naturally occurring brainwave frequency experienced during deep relaxation\, meditation\, and the moments just before sleep. In this state: \n\n\nThe nervous system shifts out of stress mode \n\n\nThe subconscious mind becomes more receptive \n\n\nEmotional processing happens with ease \n\n\nInsight and intuition become more accessible \n\n\nThis meditation helps you access this state safely and intentionally. \n\nWhy Attend This Session\nDaily life often keeps us in cycles of overthinking\, emotional suppression\, and stress. This session creates a gentle pause\, allowing your system to: \n\n\nRelease emotional buildup \n\n\nQuiet mental chatter \n\n\nGain clarity on inner conflicts \n\n\nRestore energetic balance \n\n\nExperience deep rest and renewal \n\n\n\nWho This Session Is For\n\n\nAnyone feeling emotionally overwhelmed or mentally fatigued \n\n\nIndividuals seeking clarity around life decisions \n\n\nThose wanting to deepen their meditation practice \n\n\nBeginners and experienced meditators alike \n\n\nNo prior meditation experience is required. \n\nBenefits You May Experience\n✨ Emotional lightness✨ Greater mental clarity✨ Reduced anxiety and stress✨ Improved intuitive awareness✨ Deep relaxation
URL:https://hubofconsciousness.com/event/theta-meditation-for-inner-clarity-emotional-release/
CATEGORIES:Meditations
ATTACH;FMTTYPE=image/jpeg:https://hubofconsciousness.com/wp-content/uploads/2025/02/Theta-Healing-Dubai.jpg
END:VEVENT
END:VCALENDAR