BEGIN:VCALENDAR
VERSION:2.0
PRODID:-//Hub of Consciousnes - ECPv6.2.9//NONSGML v1.0//EN
CALSCALE:GREGORIAN
METHOD:PUBLISH
X-WR-CALNAME:Hub of Consciousnes
X-ORIGINAL-URL:https://hubofconsciousness.com
X-WR-CALDESC:Events for Hub of Consciousnes
REFRESH-INTERVAL;VALUE=DURATION:PT1H
X-Robots-Tag:noindex
X-PUBLISHED-TTL:PT1H
BEGIN:VTIMEZONE
TZID:Asia/Dubai
BEGIN:STANDARD
TZOFFSETFROM:+0400
TZOFFSETTO:+0400
TZNAME:+04
DTSTART:20260101T000000
END:STANDARD
END:VTIMEZONE
BEGIN:VEVENT
DTSTART;TZID=Asia/Dubai:20260303T193000
DTEND;TZID=Asia/Dubai:20260303T203000
DTSTAMP:20260426T021750
CREATED:20230707T145101Z
LAST-MODIFIED:20260225T164848Z
UID:996622-1772566200-1772569800@hubofconsciousness.com
SUMMARY:Full Moon & Lunar Eclipse Shamanic Circle
DESCRIPTION:A Lunar Eclipse is not an ordinary Full Moon. \nIt amplifies emotions.\nIt brings hidden patterns to the surface.\nIt accelerates endings that are already unfolding in your life. \nThis sacred shamanic circle is designed to help you consciously release what is ready to leave — rather than resisting the shift. \n\nThrough guided ritual\, drum journeying\, intention work\, and energetic clearing\, you will be supported in: \n✨ Letting go of old emotional patterns \n✨ Releasing attachments and stagnant energy \n✨ Gaining clarity around repeating cycles \n✨ Reclaiming your personal power \n✨  Eclipses often mark turning points. \n\nThis is a space to honour that threshold with awareness and intention. \nWhether you are navigating change\, feeling emotionally activated\, or simply wanting to align with the powerful lunar energies — this circle offers grounding\, depth\, and transformation. \n✨ Expect ritual.\n✨ Expect reflection.\n✨ Expect release. \n\nRegistration Information: \n3 March\, 7:30-8:30PM\nAED 150+VAT \nRegistration Link \n 
URL:https://hubofconsciousness.com/event/full-moon-shamanic-sound-healing-with-sagar/
LOCATION:Hub of Consciousness\, Villa 2 – 39th St – Al Barsha – Al Barsha 3 – Dubai\, Al Barsha\, United Arab Emirates
CATEGORIES:Meditations
ATTACH;FMTTYPE=image/jpeg:https://hubofconsciousness.com/wp-content/uploads/2023/07/WhatsApp-Image-2026-02-25-at-5.56.50-PM.jpeg
END:VEVENT
BEGIN:VEVENT
DTSTART;TZID=Asia/Dubai:20260310T193000
DTEND;TZID=Asia/Dubai:20260310T203000
DTSTAMP:20260426T021750
CREATED:20260226T073144Z
LAST-MODIFIED:20260226T073219Z
UID:1003091-1773171000-1773174600@hubofconsciousness.com
SUMMARY:Meet Your Spirit Guide - Group Hypnosis Experience
DESCRIPTION:What if the guidance you’ve been searching for is already within you? \n“Meet Your Spirit Guide” is a guided group hypnosis experience designed to help you access your inner wisdom in a deeply relaxed\, receptive state. \nThrough gentle hypnotherapy techniques\, you will be guided into a calm\, focused state of awareness — where intuition becomes clearer and insight becomes accessible. \n\nDuring the session\, you may: \nConnect with an inner guide\, symbol\, or archetype \nReceive clarity around a current life situation \nAccess subconscious wisdom \nExperience deep relaxation and emotional grounding \nEvery experience is unique. Some people see imagery\, some feel sensations\, some receive words or intuitive impressions. There is no “right” way — only your own experience. \n\nWhether you are spiritually curious\, intuitively inclined\, or simply looking to explore your subconscious in a safe group setting this session offers a powerful yet gentle introduction to hypnotherapy
URL:https://hubofconsciousness.com/event/meet-your-spirit-guide-group-hypnosis-experience/
CATEGORIES:Meditations
ATTACH;FMTTYPE=image/jpeg:https://hubofconsciousness.com/wp-content/uploads/2026/02/WhatsApp-Image-2026-02-25-at-6.20.10-PM.jpeg
END:VEVENT
END:VCALENDAR