BEGIN:VCALENDAR
VERSION:2.0
PRODID:-//Hub of Consciousnes - ECPv6.2.9//NONSGML v1.0//EN
CALSCALE:GREGORIAN
METHOD:PUBLISH
X-WR-CALNAME:Hub of Consciousnes
X-ORIGINAL-URL:https://hubofconsciousness.com
X-WR-CALDESC:Events for Hub of Consciousnes
REFRESH-INTERVAL;VALUE=DURATION:PT1H
X-Robots-Tag:noindex
X-PUBLISHED-TTL:PT1H
BEGIN:VTIMEZONE
TZID:Asia/Dubai
BEGIN:STANDARD
TZOFFSETFROM:+0400
TZOFFSETTO:+0400
TZNAME:+04
DTSTART:20260101T000000
END:STANDARD
END:VTIMEZONE
BEGIN:VEVENT
DTSTART;TZID=Asia/Dubai:20260114T190000
DTEND;TZID=Asia/Dubai:20260114T200000
DTSTAMP:20260426T052208
CREATED:20260102T113546Z
LAST-MODIFIED:20260102T113546Z
UID:1002997-1768417200-1768420800@hubofconsciousness.com
SUMMARY:Journey Within: Inner Child Healing & Sound Bath
DESCRIPTION:Journey Within: Inner Child Healing & Sound Bath ✨ \nStep into a sacred space of healing and reconnection. This immersive group session combines guided inner child meditation with the transformative vibrations of Himalayan singing bowls. \nRelease what no longer serves you. Embrace the wholeness within. \n\nWhat to expect:\nGuided inner child healing meditation\, live sound healing with Himalayan bowls and sacred instruments\, deep relaxation and emotional release\, and a supportive group energy. \n\nPerfect for:\nAnyone seeking emotional healing\, reconnection with their authentic self\, stress relief\, or inner peace. \n\nKey Details:\n* Reconnect with your inner child through guided meditation\n* Healing vibrations of Himalayan singing bowls\n* Release emotional blocks and restore balance\n* Intimate group setting \n\nFacilitated by: Aanchal Talwar\nHypnotherapist | Inner Child Healing Specialist | Meditation Guide
URL:https://hubofconsciousness.com/event/journey-within-inner-child-healing-sound-bath/
CATEGORIES:Meditations
ATTACH;FMTTYPE=image/webp:https://hubofconsciousness.com/wp-content/uploads/2023/12/sound-healing-1.webp
END:VEVENT
BEGIN:VEVENT
DTSTART;TZID=Asia/Dubai:20260131T183000
DTEND;TZID=Asia/Dubai:20260131T193000
DTSTAMP:20260426T052208
CREATED:20260102T114007Z
LAST-MODIFIED:20260102T114007Z
UID:1003001-1769884200-1769887800@hubofconsciousness.com
SUMMARY:Healing Across Timelines - Group Past Life Release
DESCRIPTION:🧘🏻‍31st January 2026\n\n\n⏰6:30PM – 7:30PM\n\n\n\n\n\n\n\nHEALING ACROSS TIMELINES\n\n\nA Group Past Life Regression Release\n\n\n \n\n\nHave you ever felt an inexplicable connection to a place you’ve never been? Met someone who feels strangely familiar? Or carried fears and patterns you can’t quite explain?\n\n\nThe answers may lie in the memories your soul carries from lifetimes past.\n\n\nJoin us for a transformative group past life regression session where you’ll safely journey through the corridors of time\, guided into deep meditative states to access the wisdom and experiences of your previous incarnations.\n\n\n\n\n\n \n\n\nWhat Awaits You:\n\n\n* Access profound memories from past lifetimes\n\n\n* Gain clarity on recurring patterns in your current life\n\n\n* Understand karmic connections and soul relationships\n\n\n* Discover lessons your soul has been learning across time\n\n\n* See how past experiences influence your present reality\n\n\n* Connect with a community of fellow seekers\n\n\n\n\n\n \n\n\nExperience Includes:\n\n\nGuided meditation and preparation | Deep hypnotic regression | Safe exploration of past life memories | Integration and sharing circle No previous experience necessary. Come with an open heart and curious mind.\n\n\n \n\n\n\n\n\n\n\nLed by Aanchal Talwar\, Integrated Clinical Hypnotherapist and Past Lives Regression specialist.\n\n\n\nYour soul remembers. Are you ready to listen?
URL:https://hubofconsciousness.com/event/healing-across-timelines-group-past-life-release/
CATEGORIES:Meditations
ATTACH;FMTTYPE=image/png:https://hubofconsciousness.com/wp-content/uploads/2026/01/7.png
END:VEVENT
END:VCALENDAR