BEGIN:VCALENDAR
VERSION:2.0
PRODID:-//Hub of Consciousnes - ECPv6.2.9//NONSGML v1.0//EN
CALSCALE:GREGORIAN
METHOD:PUBLISH
X-WR-CALNAME:Hub of Consciousnes
X-ORIGINAL-URL:https://hubofconsciousness.com
X-WR-CALDESC:Events for Hub of Consciousnes
REFRESH-INTERVAL;VALUE=DURATION:PT1H
X-Robots-Tag:noindex
X-PUBLISHED-TTL:PT1H
BEGIN:VTIMEZONE
TZID:Asia/Dubai
BEGIN:STANDARD
TZOFFSETFROM:+0400
TZOFFSETTO:+0400
TZNAME:+04
DTSTART:20250101T000000
END:STANDARD
END:VTIMEZONE
BEGIN:VEVENT
DTSTART;TZID=Asia/Dubai:20250212T193000
DTEND;TZID=Asia/Dubai:20250212T204500
DTSTAMP:20260420T183152
CREATED:20231213T085715Z
LAST-MODIFIED:20250131T124837Z
UID:998089-1739388600-1739393100@hubofconsciousness.com
SUMMARY:Full Moon Fire Ceremony & Release Ritual
DESCRIPTION:🌕 The full moon is about releasing & letting go. This is a time to look at all attachments to things\, people\, situations\, beliefs and emotions that no longer serve you for your highest good. \n. \n🧘Join us for this full moon meditation and fire ritual of letting go & clearing out lower energies to open up to a higher vibration. \n. \n🌕Full Moons are energetically powerful times for inner work\, for releasing what doesn’t serve you\, for releasing the emotions and beliefs that block you from manifesting your best life and destiny.  From a place of grounded wholeness that lives in a high vibration\, in spite of everything around us\, let us see what is possible… \n. \n🌕During meditation and a clearing\, you will align to the Love that YOU are – return to your true authentic self which is love\, joy and peace. \n. \n🌕We will go through different tools that will help you to feel at peace\, sleep soundly and have clarity on your direction. We also will do a burning ceremony to let go of anything that you are ready to release. Meditation helps you become a witness to your thoughts\, behavior\, and actions. This group is for you if you are really wanting positive change in your life with clarity on your next steps in your direction. \n. \n🧘This is a truly magical time\, full of beautiful energy and momentum!
URL:https://hubofconsciousness.com/event/wolf-moon-outdoor-full-moon-fire-ritual-with-era/
LOCATION:Hub of Consciousness\, Villa 2 – 39th St – Al Barsha – Al Barsha 3 – Dubai\, Al Barsha\, United Arab Emirates
CATEGORIES:Meditations
ATTACH;FMTTYPE=image/jpeg:https://hubofconsciousness.com/wp-content/uploads/2024/03/How-To-Paint-The-Moon-For-Beginners-Realistic-Full-Moon-with-Acrylics.jpg
ORGANIZER;CN="Era":MAILTO:info@hubofconsciousness.com
END:VEVENT
END:VCALENDAR