BEGIN:VCALENDAR
VERSION:2.0
PRODID:-//Hub of Consciousnes - ECPv6.2.9//NONSGML v1.0//EN
CALSCALE:GREGORIAN
METHOD:PUBLISH
X-WR-CALNAME:Hub of Consciousnes
X-ORIGINAL-URL:https://hubofconsciousness.com
X-WR-CALDESC:Events for Hub of Consciousnes
REFRESH-INTERVAL;VALUE=DURATION:PT1H
X-Robots-Tag:noindex
X-PUBLISHED-TTL:PT1H
BEGIN:VTIMEZONE
TZID:Asia/Dubai
BEGIN:STANDARD
TZOFFSETFROM:+0400
TZOFFSETTO:+0400
TZNAME:+04
DTSTART:20230101T000000
END:STANDARD
END:VTIMEZONE
BEGIN:VEVENT
DTSTART;TZID=Asia/Dubai:20230817T100000
DTEND;TZID=Asia/Dubai:20230817T170000
DTSTAMP:20260419T220914
CREATED:20230811T155236Z
LAST-MODIFIED:20230811T155236Z
UID:996996-1692266400-1692291600@hubofconsciousness.com
SUMMARY:Mindfulness Meditation Training with Dharana
DESCRIPTION:This Meditation training would comprise of 6 powerful techniques that empower you to heal yourself and extend the healing energy to others through the process Mindfulness and Positive Neuroplasticity.\n\n\n\n\nhttps://hubofconsciousness.com/wp-content/uploads/2023/06/June-25-Meditation-Training-.mp4\n\n\n\n\nTHE TECHNIQUES EXPLORED IN THIS TRAINING ARE:\n\n\n \n\n👉I AM (Goal Setting Technique) \n👉Mountain Meditation ( for deep grounding\, relaxation and Stress Release) \n👉Turning towards difficult emotions( for release of Trauma/ fear/ phobia) \n👉Sitting Meditation (for alignment towards one’s goals) \n👉Body scan ( for release of blockages & stuck emotions inside our bodies through the use of breath) \n\nTAKEAWAYS \n\n\n \n\n👉Learn how to meditate & heal oneself effortlessly.\n👉Discover the innate ability to create the life you desire with the simple\, yet effectiveVisualization Technique (to see exactly what you desire in your life) techniques.\n👉Discover the power to share the healing energy with others.\n👉Practice Meditations to tune in to.\n👉Content & Materials to go about the process.\n👉Certificate of Completion.\n\n\n\n\n\nMEET OUR INSTRUCTOR: Dharana\n\n \n\n\n\n\nBeing a Mindfulness Practitioner for the past 10 years\, Dharana is passionate about mental health and well being and finds joy in empowering individuals to find their path to balance\, happiness and harmony. She focuses on healing through MBSR (Mindfulness based Stress Reduction) techniques\, Cacao Ceremonies\, Positive Neuroplasticity Techniques and Guided Meditations. She is also a certified Mindfulness Meditation Trainer and Cacao Practitioner Trainer. Dharana integrates all the useful approaches depending on the requirement of each individual\, thus catering for the uniqueness in each case\, and facilitating an easy and fast transformation.\n\n\n\n\nDates and Timings: September 16 – 17\, 2023 | 10:00 am – 5:00 pm (GST) \nInvestment: AED 1200 (+ 5 %VAT) – Convert into 4 easy installments with TABBY \nVenue: Hub of Consciousness\, Al Barsha 3\, Dubai
URL:https://hubofconsciousness.com/event/mindfulness-meditation-training-with-dharana-3/
LOCATION:Hub of Consciousness\, Villa 2 – 39th St – Al Barsha – Al Barsha 3 – Dubai\, Al Barsha\, United Arab Emirates
CATEGORIES:Trainings
ATTACH;FMTTYPE=image/jpeg:https://hubofconsciousness.com/wp-content/uploads/2023/06/pexels-yan-krukau-8436735-scaled.jpeg
ORGANIZER;CN="Dharana":MAILTO:info@hubofconsciousness.com
END:VEVENT
END:VCALENDAR