BEGIN:VCALENDAR
VERSION:2.0
PRODID:-//Hub of Consciousnes - ECPv6.2.9//NONSGML v1.0//EN
CALSCALE:GREGORIAN
METHOD:PUBLISH
X-WR-CALNAME:Hub of Consciousnes
X-ORIGINAL-URL:https://hubofconsciousness.com
X-WR-CALDESC:Events for Hub of Consciousnes
REFRESH-INTERVAL;VALUE=DURATION:PT1H
X-Robots-Tag:noindex
X-PUBLISHED-TTL:PT1H
BEGIN:VTIMEZONE
TZID:Asia/Dubai
BEGIN:STANDARD
TZOFFSETFROM:+0400
TZOFFSETTO:+0400
TZNAME:+04
DTSTART:20230101T000000
END:STANDARD
END:VTIMEZONE
BEGIN:VEVENT
DTSTART;TZID=Asia/Dubai:20230814T193000
DTEND;TZID=Asia/Dubai:20230814T203000
DTSTAMP:20260419T220936
CREATED:20230729T092027Z
LAST-MODIFIED:20230729T092027Z
UID:996771-1692041400-1692045000@hubofconsciousness.com
SUMMARY:Connect with Yourself and Roots in Shamanic Drumming Circle
DESCRIPTION:🪘 Connecting with yourself and your roots in a shamanic drumming circle 🪘 \n🪘 As the rhythmic beats of the drums fill the air\, the ancient practice takes you on a journey within\, allowing you to delve into the depths of your being. \n🪘 Through the power of the circle\, you connect with your ancestors and honour the wisdom of your heritage. \n🪘 The drumming serves as a conduit\, guiding you to a state of heightened awareness\, where you can release pent-up emotions\, gain insights\, and find healing. \n🪘 In this sacred space\, you reconnect with your true essence\, embracing the harmony between your inner self and the ancient rhythms of the earth. \n🪘 The shamanic drumming circle becomes a harmonious dance between your soul and the timeless wisdom of your ancestral roots.
URL:https://hubofconsciousness.com/event/connect-with-yourself-and-roots-in-shamanic-drumming-circle/
LOCATION:Hub of Consciousness\, Villa 2 – 39th St – Al Barsha – Al Barsha 3 – Dubai\, Al Barsha\, United Arab Emirates
CATEGORIES:Meditations
ATTACH;FMTTYPE=image/jpeg:https://hubofconsciousness.com/wp-content/uploads/2023/07/WhatsApp-Image-2023-07-29-at-1.15.51-PM.jpeg
ORGANIZER;CN="Keerthi":MAILTO:info@hubofconsciousness.com
END:VEVENT
END:VCALENDAR