BEGIN:VCALENDAR
VERSION:2.0
PRODID:-//Hub of Consciousnes - ECPv6.2.9//NONSGML v1.0//EN
CALSCALE:GREGORIAN
METHOD:PUBLISH
X-ORIGINAL-URL:https://hubofconsciousness.com
X-WR-CALDESC:Events for Hub of Consciousnes
REFRESH-INTERVAL;VALUE=DURATION:PT1H
X-Robots-Tag:noindex
X-PUBLISHED-TTL:PT1H
BEGIN:VTIMEZONE
TZID:Asia/Dubai
BEGIN:STANDARD
TZOFFSETFROM:+0400
TZOFFSETTO:+0400
TZNAME:+04
DTSTART:20230101T000000
END:STANDARD
END:VTIMEZONE
BEGIN:VEVENT
DTSTART;TZID=Asia/Dubai:20230805T100000
DTEND;TZID=Asia/Dubai:20230805T170000
DTSTAMP:20260421T123740
CREATED:20230721T113845Z
LAST-MODIFIED:20230721T120654Z
UID:996676-1691229600-1691254800@hubofconsciousness.com
SUMMARY:Akashic Records Reading & Healing Practitioners Training
DESCRIPTION:  \n \nThe term Akashic has its roots in the Sanskrit word “Akasha” meaning “ether” “sky” or “atmosphere.” So\, it goes without saying that the Akashic Records are thought to exist in the ether – in the non-physical plane of existence a.k.a the mental plane. \nThe Akashic Records are like an energetic log\, a Google search for your soul. And in it are records are everything that has ever existed or taken place\, human lifetimes but also the record of all universal events\, thoughts\, words\, emotions and intent ever to have occurred in the past\, present\, or future in terms of all entities and life forms. \nIn essence\, when you read your own records or the records of someone else\, you are connecting with the soul of a person. It’s a sacred space. One that is deeply personal\, private and that spans all the lifetimes of a particular soul. \nAnyone and everyone has access to them and they are very simple to open \n  \nWHY SHOULD ONE TRY TO ACCESS IT? \nThe more we learn about ourselves\, the more self-aware we become. Almost all spiritual beliefs claim that the soul chooses the birth\, as well as\, it chooses its parents\, and all the traumas it has to undertake in order to heal and evolve – but never can they answer why? The ‘Why’ in all the above situations is answered by exploring the Akashic Records. Once we understand the ‘why\,’ we’re no longer plagued with doubt\, we attain a crystal-clear clarity about our lives and our soul’s journey. \n  \nWHAT WILL YOU LEARN? \n\nLearn how to access and read Akashic Records\nConnect with your personal Akashic Records\nLearn how to repair your personal karma\nAccess and understand Past Lives and their influence on your present life\nLearn how to use Akashic records to see future results of your decisions\nLearn how to read for other people\nHow to deliver professional readings to a client\nLearn to get more clarity on what is going on in your own life Practices with one\nanother.\n\n  \nBENEFITS OF LEARNING & ACCESSING THE AKASHIC RECORDS? \n To know our life plan \n To know what karmic debts we are carrying \n To live life of your dreams \n To know which relationships or situations are for your highest good \n To get clarity on certain challenges in your life \n  \nCERTIFICATION & TAKEAWAYS \n \n  \n\nIPHM Accredited Certification\nComprehensive Training Manual\nAbility to Practice Akashic Records personally & professionally\n\n  \nHEAR WHAT OTHER STUDENTS HAD TO SAY… \n  \n\n\n  \n\n  \nMEET YOUR INSTRUCTOR: SHAISTA \n  \n \nShaista is a Family Constellations Trans-Generational Trauma Facilitator. She is also a clinical hypnotherapist and a reiki master\nteacher. She believes that every person is the creator of their own destiny and is passionate about helping others take responsibility for\ntheir successes and failures and regard life with love and positivity \nShe helps her clients understand the root cause of their emotional\, physical\, mental\, or relationship problems in life by combining various healing methods. She provides therapy for issues such as Anxiety\, Stress\, Anger\, addictions\, fears\, phobias\, sleeping difficulties\, eating disorders\, obsessive thoughts\, Relationship problems between parents/children OR between couples\, along with providing complementary support to heal Physical ailments. Her healing process allows clients to look at their issues from a deeper perspective. \nHer trainings & Sessions help clients reveal deep insight in order to assist them stepping into purpose\, shift unhelpful patterns and beliefs\, rapidly clear blocked energies\, understand the root cause and facilitate healing. \n  \nTRAINING SCHEDULE & DETAILS  \n Dates: 5 & 6 AUGUST   \n Timings: 10:00 am – 5:00 pm (GST) \n Investment: AED 2100 (+ 5 %VAT)  \n Convert into 4 easy installments with TABBY \n Venue: Hub of Consciousness\, Al Barsha 3\, Dubai \nYou can book a 20 Minute complimentary Consultation to Learn More! 
URL:https://hubofconsciousness.com/event/akashic-records-reading-healing-practitioners-training/
LOCATION:Hub of Consciousness\, Villa 2 – 39th St – Al Barsha – Al Barsha 3 – Dubai\, Al Barsha\, United Arab Emirates
CATEGORIES:Trainings
ATTACH;FMTTYPE=image/jpeg:https://hubofconsciousness.com/wp-content/uploads/2023/07/IMG_20230108_165738-scaled.jpg
END:VEVENT
BEGIN:VEVENT
DTSTART;TZID=Asia/Dubai:20230805T183000
DTEND;TZID=Asia/Dubai:20230805T210000
DTSTAMP:20260421T123741
CREATED:20230728T150823Z
LAST-MODIFIED:20230729T083304Z
UID:996759-1691260200-1691269200@hubofconsciousness.com
SUMMARY:Womb Elemental Aesthetic dance & Rebirth With Ma'at With Sakina & Aya
DESCRIPTION:𝑾𝒐𝒎𝒃 𝑬𝒍𝒆𝒎𝒆𝒏𝒕𝒂𝒍 𝑨𝒆𝒔𝒕𝒉𝒆𝒕𝒊𝒄 𝑫𝒂𝒏𝒄𝒆 & 𝑹𝒆𝒃𝒊𝒓𝒕𝒉 𝒘𝒊𝒕𝒉 𝑴𝒂’𝒂𝒕 𝑾𝒊𝒕𝒉 𝑺𝒂𝒌𝒊𝒏𝒂 𝒂𝒏𝒅 𝑨𝒚𝒂 \n  \nWhat’s included? \n💗 Smudging and anointing ritual\n💗 Pilgrimage into womb medicine wheel\n💗 Elemental static dance\n💗 integration & Sharing circle\n💗 Ma’at Carmoney of innocence and rebirth\n💗 Judgment shamanic craft ritual\n💗 Blue lotus tea ceremony \nwe will be journeying into the womb medicine wheel connecting with the elements of our secret womb then embodying and activating these elements through ecstatic dance to bring healing and to our feminine centre. \nGuided Ma’at journey is powerful declaration of innocence have been practiced by the ancient Egyptian mystery schools and temples dedicated to goddess Ma’at to allow any repressed truths to be revealed\, so that the heart may open back to love. \n combining all these journeys with the shamanic crafting and blue lotus tea ceremony will take you in a profound healing and transforming experience into the deep feminine realms while connecting with the power of sisterhood consciousness forming bonds that will ripple out through your life’s journey.
URL:https://hubofconsciousness.com/event/womb-elemental-aesthetic-dance-rebirth-with-maat-with-sakina-aya/
CATEGORIES:Movement
ATTACH;FMTTYPE=image/jpeg:https://hubofconsciousness.com/wp-content/uploads/2023/07/WhatsApp-Image-2023-07-28-at-7.32.02-PM.jpeg
END:VEVENT
BEGIN:VEVENT
DTSTART;TZID=Asia/Dubai:20230805T193000
DTEND;TZID=Asia/Dubai:20230805T210000
DTSTAMP:20260421T123741
CREATED:20230728T143501Z
LAST-MODIFIED:20230728T143501Z
UID:996756-1691263800-1691269200@hubofconsciousness.com
SUMMARY:Chakra Breathing & Trance Meditation Frequencies With Naresh
DESCRIPTION:Whether you seek relief from physical discomfort\, emotional healing\, or simply wish to explore a profound meditative experience\, we craft bespoke sound healing sessions catered to your individual needs guiding you on a path of self-discovery and growth.⁣\n⁣\n🧘‍♂️ Embrace the Benefits 🧘‍♀️⁣\n⁣\n🌌 Stress Relief and Relaxation: Allow the ethereal melodies to soothe your mind and melt away tension\, leaving you in a state of deep relaxation and inner peace.⁣\n⁣\n💫 Chakra Alignment: Experience the alignment of your body’s energy centers\, as the vibrations of sound gently cleanse and balance each chakra\, promoting overall vitality and emotional stability.⁣\n⁣\n🌬️ Enhanced Breath and Vitality: The rhythmic sounds will encourage you to breathe deeply\, revitalizing your respiratory system and invigorating your entire being.⁣\n⁣\n🌜🌞 Circadian Rhythm Harmonization: The gentle soundscape will help regulate your sleep-wake cycle\, promoting more restful sleep and increased daytime vitality.⁣\n⁣\n💆‍♂️ Mental Clarity and Focus: Let the mesmerizing tones clear mental clutter\, fostering clarity\, and sharpening your ability to concentrate on the present moment.⁣\n⁣\n𝘉𝘰𝘰𝘬 𝘺𝘰𝘶𝘳 𝘰𝘯𝘦-𝘰𝘯-𝘰𝘯𝘦 𝘴𝘰𝘶𝘯𝘥 𝘩𝘦𝘢𝘭𝘪𝘯𝘨 𝘴𝘦𝘴𝘴𝘪𝘰𝘯 𝘵𝘰𝘥𝘢𝘺 𝘢𝘯𝘥 𝘢𝘭𝘭𝘰𝘸 𝘺𝘰𝘶𝘳𝘴𝘦𝘭𝘧 𝘵𝘩𝘦 𝘨𝘪𝘧𝘵 𝘰𝘧 𝘵𝘳𝘢𝘯𝘴𝘧𝘰𝘳𝘮𝘢𝘵𝘪𝘷𝘦 𝘴𝘦𝘭𝘧-𝘤𝘢𝘳𝘦🌀✨⁣
URL:https://hubofconsciousness.com/event/chakra-breathing-trance-meditation-frequencies-with-naresh/
LOCATION:Hub of Consciousness\, Villa 2 – 39th St – Al Barsha – Al Barsha 3 – Dubai\, Al Barsha\, United Arab Emirates
CATEGORIES:Movement
ATTACH;FMTTYPE=image/jpeg:https://hubofconsciousness.com/wp-content/uploads/2023/07/IMG_20230607_200553-1-scaled.jpg
ORGANIZER;CN="Naresh":MAILTO:info@hubofconsciousness.com
END:VEVENT
END:VCALENDAR