BEGIN:VCALENDAR
VERSION:2.0
PRODID:-//Hub of Consciousnes - ECPv6.2.9//NONSGML v1.0//EN
CALSCALE:GREGORIAN
METHOD:PUBLISH
X-WR-CALNAME:Hub of Consciousnes
X-ORIGINAL-URL:https://hubofconsciousness.com
X-WR-CALDESC:Events for Hub of Consciousnes
REFRESH-INTERVAL;VALUE=DURATION:PT1H
X-Robots-Tag:noindex
X-PUBLISHED-TTL:PT1H
BEGIN:VTIMEZONE
TZID:Asia/Dubai
BEGIN:STANDARD
TZOFFSETFROM:+0400
TZOFFSETTO:+0400
TZNAME:+04
DTSTART:20230101T000000
END:STANDARD
END:VTIMEZONE
BEGIN:VEVENT
DTSTART;TZID=Asia/Dubai:20230728T080000
DTEND;TZID=Asia/Dubai:20230728T170000
DTSTAMP:20260420T000856
CREATED:20230707T102251Z
LAST-MODIFIED:20230707T102603Z
UID:996593-1690531200-1690563600@hubofconsciousness.com
SUMMARY:Theta Healing Advanced DNA Training
DESCRIPTION:𝙒𝙝𝙖𝙩 𝙞𝙨 𝙏𝙝𝙚𝙩𝙖 𝙃𝙚𝙖𝙡𝙞𝙣𝙜 𝘼𝙙𝙫𝙖𝙣𝙘𝙚𝙙? \nThe advanced Theta healing course expands the information in the Basic class to encompass an in-depth understanding of the seven planes of existence that surround us. The student will learn how to shift old resentments\, vows and\ncommitments that hold them back. Learning new and advanced exercises\, students will receive empowering downloads that will bring profound shift and enlightenment. This class is a delightful experience. \n𝘼𝙧𝙚 𝙮𝙤𝙪 𝙧𝙚𝙖𝙙𝙮 𝙩𝙤 𝙝𝙖𝙧𝙣𝙚𝙨𝙨 𝙩𝙝𝙚 𝙥𝙤𝙬𝙚𝙧 𝙤𝙛 𝙖𝙡𝙡 𝙩𝙝𝙖𝙩 𝙞𝙨? \nThis class completes the foundational levels of ThetaHealing and is the second of the two prerequisites required to take other ThetaHealing classes. Advanced Theta-healing is filled with hundreds of downloads that enlighten. People come\naway from this class with a deeper understanding of ThetaHealing including the planes of existence\, more clarity in their intuition and connection with Creator\, and highly developed skills at doing digging work. \n𝘾𝙤𝙪𝙧𝙨𝙚 𝘾𝙤𝙣𝙩𝙚𝙣𝙩: \n🌈 The Awakened masters \n🌈 Release from oaths & vows \n🌈 An in-depth understanding of the seven planes of existence \n🌈 Equations of planes of existence \n🌈 Vows to be cleared \n🌈 Programs of the planes \n🌈 An understanding of initiations \n🌈 Advanced healing \n🌈 Advanced programs \n🌈 Key beliefs-Digging \n🌈 An in-depth study of belief work \n🌈 Finding the bottom belief \n🌈 Fear work \n🌈 An in-depth study of the feeling work \n🌈 Downloads \n🌈 The instilling of feelings \n🌈 The three Rs \n🌈 The release of Resentments \, Rejections and Regrets \n🌈 Exercise – Free floating memories- \n🌈 Exercise – Baby in the womb \n🌈 Exercise – The broken soul \n🌈 Exercise – Second plane meets seventh plane \n🌈 Exercise – Fourth plane meets seventh plane \n🌈 DNA 3 Pre – requisites \n𝙏𝙖𝙠𝙚𝙖𝙬𝙖𝙮𝙨: \n🌈 Theta Healing book and Theta Healing Advanced practitioners manual.\n🌈 Official Theta Healing practitioner certificate.\n🌈 Enlisted in the Theta healing.com official website with your personal profile as a Theta Healing Advanced Practitioner.\n🌈 Manual from THINK Institute. \n \n \n  \n𝙈𝙚𝙚𝙩 𝙊𝙪𝙧 𝙄𝙣𝙨𝙩𝙧𝙪𝙘𝙩𝙤𝙧: 𝙑𝙖𝙣𝙨𝙖 𝘽𝙖𝙡𝙞 \nVansa Bali is a acclaimed Life Coach & HolisticTherapist on a mission to\nLead\, Educate & Empower people to achieve their Highest Potential.\nVansa Bali is a acclaimed Life Coach & Holistic Therapist on a mission to\nLead\, Educate & Empower people to achieve their Highest Potential. She\nhas been success fully teaching powerful healing techniques like Theta\nhealing & Angel Healing in the GCC for the past 5 years. She strongly\nbelieves that when we change our beliefs\, we create a new reality and\,\non this journey\, we are fully supported by the Creator of All That Is\n(Universal Love).powerful healing techniques like Thetahealing & Angel\nHealing in the GCC for the past 5 years \nDates and Timings: \n\n  July 28 | 06:00 pm – 09:00 pm (GST)\n  July 29 & 30 2023   | 10:00 am – 5:00 pm (GST)\n\nInvestment: AED 2200 (+ 5 %VAT) –Convert into 4 easy installments with TABBY \nVenue: Hub of Consciousness\, Al Barsha 3\, Dubai
URL:https://hubofconsciousness.com/event/theta-healing-advanced-dna-training/
LOCATION:Hub of Consciousness\, Villa 2 – 39th St – Al Barsha – Al Barsha 3 – Dubai\, Al Barsha\, United Arab Emirates
CATEGORIES:Trainings
ATTACH;FMTTYPE=image/jpeg:https://hubofconsciousness.com/wp-content/uploads/2023/07/IMG_20221015_143242-scaled.jpg
ORGANIZER;CN="Vansa Bali":MAILTO:info@hubofconsciousness.com
END:VEVENT
END:VCALENDAR