BEGIN:VCALENDAR
VERSION:2.0
PRODID:-//Hub of Consciousnes - ECPv6.2.9//NONSGML v1.0//EN
CALSCALE:GREGORIAN
METHOD:PUBLISH
X-ORIGINAL-URL:https://hubofconsciousness.com
X-WR-CALDESC:Events for Hub of Consciousnes
REFRESH-INTERVAL;VALUE=DURATION:PT1H
X-Robots-Tag:noindex
X-PUBLISHED-TTL:PT1H
BEGIN:VTIMEZONE
TZID:Asia/Dubai
BEGIN:STANDARD
TZOFFSETFROM:+0400
TZOFFSETTO:+0400
TZNAME:+04
DTSTART:20230101T000000
END:STANDARD
END:VTIMEZONE
BEGIN:VEVENT
DTSTART;TZID=Asia/Dubai:20230712T073000
DTEND;TZID=Asia/Dubai:20230712T203000
DTSTAMP:20260420T001101
CREATED:20230707T161943Z
LAST-MODIFIED:20230707T162240Z
UID:996628-1689147000-1689193800@hubofconsciousness.com
SUMMARY:Shamanic Journey For Letting Go & Release With Keerthi
DESCRIPTION:✨Join Keerthi every month to Discover the ancient practice of Shamanic Journey every month: \n💟 July 12 \n💟7:30pm – 8:30pm \n1️⃣Letting go and releasing as a spiritual practice is about creating an energetic space for blessings to flow into our life. When we hold onto energy from thoughts\, emotions\, perceptions and habits that are unsupportive and unhealthy we resist that which we desire. \n2️⃣ All the heavy emotions that we hold onto can oftentimes lead us to overthink\, creating stories of worry and doubt\, or even becoming fixated on a thought pattern that was created from a past experience. \n3️⃣If you have thoughts that make you doubt yourself\, or make you believe you are unworthy then it’s time to let go and release those thoughts. This shamanic journey helps beautifully access your inner wisdom\, and let go of all the thoughts and emotions that no longer serve you in order to align yourself with an uplifting vibration of energy.
URL:https://hubofconsciousness.com/event/shamanic-journey-for-letting-go-release-with-keerthi/
CATEGORIES:Meditations
ATTACH;FMTTYPE=image/jpeg:https://hubofconsciousness.com/wp-content/uploads/2023/07/WhatsApp-Image-2023-07-07-at-7.35.21-PM.jpeg
ORGANIZER;CN="Keerthi":MAILTO:info@hubofconsciousness.com
END:VEVENT
END:VCALENDAR