BEGIN:VCALENDAR
VERSION:2.0
PRODID:-//Hub of Consciousnes - ECPv6.2.9//NONSGML v1.0//EN
CALSCALE:GREGORIAN
METHOD:PUBLISH
X-WR-CALNAME:Hub of Consciousnes
X-ORIGINAL-URL:https://hubofconsciousness.com
X-WR-CALDESC:Events for Hub of Consciousnes
REFRESH-INTERVAL;VALUE=DURATION:PT1H
X-Robots-Tag:noindex
X-PUBLISHED-TTL:PT1H
BEGIN:VTIMEZONE
TZID:Asia/Dubai
BEGIN:STANDARD
TZOFFSETFROM:+0400
TZOFFSETTO:+0400
TZNAME:+04
DTSTART:20230101T000000
END:STANDARD
END:VTIMEZONE
BEGIN:VEVENT
DTSTART;TZID=Asia/Dubai:20230702T170000
DTEND;TZID=Asia/Dubai:20230702T190000
DTSTAMP:20260420T000928
CREATED:20230707T142641Z
LAST-MODIFIED:20230707T142641Z
UID:996618-1688317200-1688324400@hubofconsciousness.com
SUMMARY:Neurosensory Technique Emotional Release and Healing With Juan
DESCRIPTION:🧠𝘐𝘮𝘮𝘦𝘳𝘴𝘦 𝘠𝘰𝘶𝘳𝘴𝘦𝘭𝘧 𝘪𝘯 𝘵𝘩𝘦 𝘗𝘰𝘸𝘦𝘳 𝘰𝘧 𝘕𝘦𝘶𝘳𝘰𝘴𝘦𝘯𝘴𝘰𝘳𝘺 𝘛𝘦𝘤𝘩𝘯𝘪𝘲𝘶𝘦𝘴 𝘢𝘯𝘥 𝘌𝘹𝘱𝘦𝘳𝘪𝘦𝘯𝘤𝘦 𝘵𝘩𝘦 𝘛𝘳𝘢𝘯𝘴𝘧𝘰𝘳𝘮𝘢𝘵𝘪𝘷𝘦 𝘌𝘧𝘧𝘦𝘤𝘵𝘴⭐️⁣\n⁣\nWe are super excited to have 𝐉𝐮𝐚𝐧 𝐌𝐚𝐫𝐭𝐢𝐧\, the 𝐟𝐨𝐮𝐧𝐝𝐞𝐫 𝐨𝐟 𝐭𝐡𝐞 𝐛𝐔𝐬𝐞𝐥𝐟 𝐦𝐞𝐭𝐡𝐨𝐝 visiting HOC for this powerful workshop on Emotional Release & Healing with Neurosensory Techniques👏🏼💛 ​⁣ \n⁣\nAs a 𝐡𝐲𝐩𝐧𝐨𝐭𝐢𝐬𝐭 𝐜𝐨𝐧𝐬𝐮𝐥𝐭𝐚𝐧𝐭 𝐚𝐧𝐝 𝐧𝐚𝐭𝐢𝐯𝐞 𝐦𝐞𝐝𝐢𝐜𝐢𝐧𝐞 𝐭𝐡𝐞𝐫𝐚𝐩𝐢𝐬𝐭\, his approach to health and healing is centred around the 𝐢𝐧𝐭𝐞𝐫𝐜𝐨𝐧𝐧𝐞𝐜𝐭𝐞𝐝𝐧𝐞𝐬𝐬 𝐨𝐟 𝐦𝐢𝐧𝐝\, 𝐛𝐨𝐝𝐲\, 𝐚𝐧𝐝 𝐧𝐚𝐭𝐮𝐫𝐞.⁣\n⁣\nA few of the benefits of Neurosensory Techniques include: ⁣\n⁣\n1️⃣ Stress Relief⁣\n2️⃣ Emotional Release & Healing⁣\n3️⃣ Heightened Self-Awareness⁣\n4️⃣ Mind-Body Connection⁣\n5️⃣ Improved Relaxation Response⁣\n6️⃣ Personal Growth and Transformation⁣\n7️⃣ Enhanced Focus and Attention⁣\n8️⃣ Increased Creativity⁣\n9️⃣ Self-Care and Self-Nurturing⁣\n⁣\nStep into the World of Neurosensory Techniques and Experience the Power Within You. 🌟💫
URL:https://hubofconsciousness.com/event/neurosensory-technique-emotional-release-and-healing-with-juan/
LOCATION:Hub of Consciousness\, Villa 2 – 39th St – Al Barsha – Al Barsha 3 – Dubai\, Al Barsha\, United Arab Emirates
CATEGORIES:Workshops
ATTACH;FMTTYPE=image/jpeg:https://hubofconsciousness.com/wp-content/uploads/2023/07/WhatsApp-Image-2023-07-07-at-6.18.26-PM.jpeg
ORGANIZER;CN="New Organizer":MAILTO:test@test.com
END:VEVENT
END:VCALENDAR