BEGIN:VCALENDAR
VERSION:2.0
PRODID:-//Hub of Consciousnes - ECPv6.2.9//NONSGML v1.0//EN
CALSCALE:GREGORIAN
METHOD:PUBLISH
X-ORIGINAL-URL:https://hubofconsciousness.com
X-WR-CALDESC:Events for Hub of Consciousnes
REFRESH-INTERVAL;VALUE=DURATION:PT1H
X-Robots-Tag:noindex
X-PUBLISHED-TTL:PT1H
BEGIN:VTIMEZONE
TZID:Asia/Dubai
BEGIN:STANDARD
TZOFFSETFROM:+0400
TZOFFSETTO:+0400
TZNAME:+04
DTSTART:20230101T000000
END:STANDARD
END:VTIMEZONE
BEGIN:VEVENT
DTSTART;TZID=Asia/Dubai:20230621T193000
DTEND;TZID=Asia/Dubai:20230621T204500
DTSTAMP:20260420T020325
CREATED:20230605T160008Z
LAST-MODIFIED:20230610T141129Z
UID:996083-1687375800-1687380300@hubofconsciousness.com
SUMMARY:Summer Solstice Special: Mystical Sound Healing With Sagar
DESCRIPTION:About: \nThis journey will take you to the mystical realities of surrendering to your heartbeat and breathing through sounds and connecting to the sound of your heartbeat and breath!  \nThe instruments like a didgeridoo\, djembe\, gongs\, and singing bowls create infinite patterns making you aware of the infinite patterns created by your heartbeat in your body! This awareness leads to a calm state and reestablishing the connection within! We shall work on unlearning and relearning the essence of kindness\, clarity\, and strength to help yourself during your process of healing! \nAbout Sagar: \nSagar has been into movements since more than 10 years. After 11 years of corporate experience in data research and analytics\, in 2019 he left his job in order to pursue movements full time. His practices include capoeira\, contact dance\, salsa\, free flow\, and contemporary\, finally reaching the point of going back to nature and learning movements from animals. \nThrough his exploration of animal-inspired movement practices\, Sagar discovered not only physical techniques to build strength\, creativity\, agility\, and flexibility\, but also non-physical practices that affect the mind and emotions. He began to delve deeper into the realm of how new movements and patterns in the body can create new patterns in the emotional aspect of the human mind\, which in turn influences every decision we make. \nSagar’s injury from intense physical practices led him to explore the healing power of sound and breathwork. It was during this time that he discovered the didgeridoo\, an ancient Aboriginal instrument that would change the course of his journey. As he began to incorporate sound and breath practices into his healing routine\, Sagar found that his recovery was faster than expected. This experience ignited his passion for facilitating sound healing sessions alongside his brother\, Sanket. Together\, they help the community heal their physical and non-physical bodies\, bringing forth kindness\, clarity\, and strength. \n 
URL:https://hubofconsciousness.com/event/summer-solstice-special-mystical-sound-healing-with-sagar/
LOCATION:Hub of Consciousness\, Villa 2 – 39th St – Al Barsha – Al Barsha 3 – Dubai\, Al Barsha\, United Arab Emirates
CATEGORIES:Meditations
ORGANIZER;CN="Sagar":MAILTO:info@hubofconsciousness.com
END:VEVENT
END:VCALENDAR