BEGIN:VCALENDAR
VERSION:2.0
PRODID:-//Hub of Consciousnes - ECPv6.2.9//NONSGML v1.0//EN
CALSCALE:GREGORIAN
METHOD:PUBLISH
X-ORIGINAL-URL:https://hubofconsciousness.com
X-WR-CALDESC:Events for Hub of Consciousnes
REFRESH-INTERVAL;VALUE=DURATION:PT1H
X-Robots-Tag:noindex
X-PUBLISHED-TTL:PT1H
BEGIN:VTIMEZONE
TZID:Asia/Dubai
BEGIN:STANDARD
TZOFFSETFROM:+0400
TZOFFSETTO:+0400
TZNAME:+04
DTSTART:20220101T000000
END:STANDARD
END:VTIMEZONE
BEGIN:VEVENT
DTSTART;TZID=Asia/Dubai:20221218T093000
DTEND;TZID=Asia/Dubai:20221218T180000
DTSTAMP:20260421T044838
CREATED:20221114T121233Z
LAST-MODIFIED:20221114T121329Z
UID:995499-1671355800-1671386400@hubofconsciousness.com
SUMMARY:Access Bars® Certified Training with Shagufta
DESCRIPTION:Access Bars® are 32 points on your head that\, when gently touched\, effortlessly\, and easily release anything that stops you from feeling joy and ease in your life. These points contain all the thoughts\, ideas\, beliefs\, emotions\, and considerations you have stored. This is an opportunity for you to let go of everything! \n  \nWho is this training for? \n  \nAccess Bars is for those who like to: \n\nBe healthy\, happy and empowered to know what they know\nLooking to expand or start a business Looking to create greater results with clients\nSeeking to turn up your capacities\nA family who would like more peace and calm\n\n  \nThere are no pre-requisites for this Access Bars® cert. Training is a BRILLIANT addition for coaches\, business professionals\, teachers\, families\, health practitioners\, healers and therapists. Plus\, it’s fully insurable! Today Access Bars® is practised in over 170 countries worldwide\, used as a potent and pragmatic tool by families\, schools\, businesses\, athletes\, prison wards\, psychologists\, artists and many more. \n  \nWhat will you Learn? \n\nLearn and practice the Access Bars® technique twice unlocking stress like nothing else\nLearn how to use this to release physical symptoms\, speed up healing Learn the Access Consciousness® clearing statement and how to use this with others\nGet clear on how you can release thoughts\, feelings and beliefs – permanent!\nDevelop the competency and skill to deal with any changes that may arise during the process\nEffective use of the Access Bars® with others\, even small children and babies\nTake home a certificate and comprehensive manual full of tools and techniques to change anything
URL:https://hubofconsciousness.com/event/access-bars-certified-training-with-shagufta/
CATEGORIES:Trainings
END:VEVENT
BEGIN:VEVENT
DTSTART;TZID=Asia/Dubai:20221218T100000
DTEND;TZID=Asia/Dubai:20221218T180000
DTSTAMP:20260421T044838
CREATED:20221114T122547Z
LAST-MODIFIED:20221114T122640Z
UID:995511-1671357600-1671386400@hubofconsciousness.com
SUMMARY:Comprehensive Tarot Training with Namrata
DESCRIPTION:What is Tarot? \n  \nSymbols are the language our soul uses to communicate with us. The tarot is a deck of 78 cards with pictures and symbols that have been used for centuries to reveal hidden truths stored deep within our subconscious. The tarot has been used over the centuries to divine the future and to discover hidden truths. These 78 cards in the tarot deck carry an extraordinary ability to mirror who you are. \n  \n“Tarot changes life by making you aware of your choices and the patterns of outcomes. Tarot is wise and honest and serves to protect and guide us with our highest good always in mind.” \n  \nThis training will help you to become a qualified tarot reader. This is a great approach to offer clarity and guidance for self\, friends\, family\, and clients. These tarot card reading courses are fun\, engaging and fulfilling with loads of exercises! \n  \nTRAINING OUTLINE: \n\nHistory of Tarot\nTarot as a tool in insight and inspiration\nMisconceptions about Tarot\nOpening your psychic ability & divine guidance\nThe 22 Major Arcanas: heart & soul of Tarot\nThe Minor Arcanas\nCourt Cards\nUnderstanding the Archetypes\nThe Fool’s Journey\nInterpretation\, symbolic representation to decode practical and inspirational meaning.\nTarot spreads and how to do a reading\nCombination cards\nShadow work
URL:https://hubofconsciousness.com/event/comprehensive-tarot-training-2/
CATEGORIES:Trainings
END:VEVENT
END:VCALENDAR