BEGIN:VCALENDAR
VERSION:2.0
PRODID:-//Hub of Consciousnes - ECPv6.2.9//NONSGML v1.0//EN
CALSCALE:GREGORIAN
METHOD:PUBLISH
X-WR-CALNAME:Hub of Consciousnes
X-ORIGINAL-URL:https://hubofconsciousness.com
X-WR-CALDESC:Events for Hub of Consciousnes
REFRESH-INTERVAL;VALUE=DURATION:PT1H
X-Robots-Tag:noindex
X-PUBLISHED-TTL:PT1H
BEGIN:VTIMEZONE
TZID:Asia/Dubai
BEGIN:STANDARD
TZOFFSETFROM:+0400
TZOFFSETTO:+0400
TZNAME:+04
DTSTART:20220101T000000
END:STANDARD
END:VTIMEZONE
BEGIN:VEVENT
DTSTART;TZID=Asia/Dubai:20221217T160000
DTEND;TZID=Asia/Dubai:20221217T200000
DTSTAMP:20260421T045036
CREATED:20221114T132348Z
LAST-MODIFIED:20221114T132348Z
UID:995530-1671292800-1671307200@hubofconsciousness.com
SUMMARY:Introducing you to your higher potential with Theta-healing with Vansa
DESCRIPTION:Learn how to connect with your intuition and master your reality! \n  \nOur intuition guides us to make the smallest and the largest of decisions in life. From making career choices to finding a compatible friend to deciding upon what speech to give\, our Intuition is guiding us all the time! \n  \nTherefore\, it becomes important to explore the nature of how our intuition truly ‘works’ and how we can use this knowledge to listen to the inner guidance that comes to us as we rise to the occasion to live intuitively and abundantly. The more we practice our intuitive muscle the better it gets and the more we feel confident making choices that align us to our divine nature. \n  \nIn this Workshop\, you will learn how to hone your intuitive abilities with fun and creative group exercise and activities. You will have the opportunity to develop a strong foundation and understanding of energy healing (applied quantum mechanics) and you will get to put it to practice with the wisdom of Thetahealing. \n  \nExercises in this workshop include: \n\nExploring the fundamentals of energy healing\nWhat are psychic senses and different types of intuition\nOpening and activating your intuitive Abilities\nReading vibes exercise\nThe Importance of Mastering Virtues!\nThe Electromagnetic Field (your aura): how to see\, read\, change\, and expand the auric field\nDiscover the auric field of the natural kingdom (trees)\nLearn how to intuitively scan your own body and heal it creatively\nStudy Space Clearing: how to identify energy in your space and clear it\nReceive Unconditional Love & Positive Affirmations to open and expand your energy field!
URL:https://hubofconsciousness.com/event/introducing-you-to-your-higher-potential-with-theta-healing-with-vansa/
CATEGORIES:Workshops
END:VEVENT
BEGIN:VEVENT
DTSTART;TZID=Asia/Dubai:20221217T193000
DTEND;TZID=Asia/Dubai:20221217T204500
DTSTAMP:20260421T045036
CREATED:20221116T081139Z
LAST-MODIFIED:20221116T081139Z
UID:995561-1671305400-1671309900@hubofconsciousness.com
SUMMARY:888Hz Abundance Gate Sound+Guided by Naresh & Dharana
DESCRIPTION:888Hz is a Solfeggio frequency and the plays a major role in Healing ✨ \n  \nThe 888Hz Abundance Gate is known for opening up our awareness to miracles all around us & experience oneness with the Universe. \n  \nThis frequency reminds us of how we’re all connected in some magical way\, sending out our messages of wants\, needs\, and desires to materialize subconsciously into the cosmos. \n  \nThis mystical frequency corresponds to chakra energy points in the body. It creates vibrations which resonate with the chakras in our bodies. It helps the self feel more optimistic about life and let go of worry.\nIt’s also known as the angel number frequency. It helps in recieving the blessings of angels that can dispel our fear of judgment\, opening the door to miracles and Divine\, unconditional love. \n  \nOpen yourself to receiving this phenomenal 888 Hz frequency through the power of Sound and Guided Meditation for an infinite abundance. ✨
URL:https://hubofconsciousness.com/event/888hz-abundance-gate-soundguided-by-naresh-dharana/
CATEGORIES:Meditations
END:VEVENT
END:VCALENDAR