BEGIN:VCALENDAR
VERSION:2.0
PRODID:-//Hub of Consciousnes - ECPv6.2.9//NONSGML v1.0//EN
CALSCALE:GREGORIAN
METHOD:PUBLISH
X-ORIGINAL-URL:https://hubofconsciousness.com
X-WR-CALDESC:Events for Hub of Consciousnes
REFRESH-INTERVAL;VALUE=DURATION:PT1H
X-Robots-Tag:noindex
X-PUBLISHED-TTL:PT1H
BEGIN:VTIMEZONE
TZID:Asia/Dubai
BEGIN:STANDARD
TZOFFSETFROM:+0400
TZOFFSETTO:+0400
TZNAME:+04
DTSTART:20220101T000000
END:STANDARD
END:VTIMEZONE
BEGIN:VEVENT
DTSTART;TZID=Asia/Dubai:20221216T193000
DTEND;TZID=Asia/Dubai:20221216T203000
DTSTAMP:20260421T063418
CREATED:20221124T125544Z
LAST-MODIFIED:20221124T125544Z
UID:995660-1671219000-1671222600@hubofconsciousness.com
SUMMARY:Emotional Cleansing Meditation with Dharana
DESCRIPTION:This Meditation helps you in clearing your mental space from negative emotions. It allows you to deal with past situations that cause you mental stress and get rid of emotions that no longer serve you.\n  \nThe result is a  refreshed\, lighter and a positive you!
URL:https://hubofconsciousness.com/event/emotional-cleansing-meditation-with-dharana-2/
CATEGORIES:Meditations
END:VEVENT
END:VCALENDAR