BEGIN:VCALENDAR
VERSION:2.0
PRODID:-//Hub of Consciousnes - ECPv6.2.9//NONSGML v1.0//EN
CALSCALE:GREGORIAN
METHOD:PUBLISH
X-ORIGINAL-URL:https://hubofconsciousness.com
X-WR-CALDESC:Events for Hub of Consciousnes
REFRESH-INTERVAL;VALUE=DURATION:PT1H
X-Robots-Tag:noindex
X-PUBLISHED-TTL:PT1H
BEGIN:VTIMEZONE
TZID:Asia/Dubai
BEGIN:STANDARD
TZOFFSETFROM:+0400
TZOFFSETTO:+0400
TZNAME:+04
DTSTART:20220101T000000
END:STANDARD
END:VTIMEZONE
BEGIN:VEVENT
DTSTART;TZID=Asia/Dubai:20221214T193000
DTEND;TZID=Asia/Dubai:20221214T203000
DTSTAMP:20260422T184231
CREATED:20221124T125242Z
LAST-MODIFIED:20221124T125313Z
UID:995657-1671046200-1671049800@hubofconsciousness.com
SUMMARY:Anxiety and Stress Healing Meditation with Dharana
DESCRIPTION:This mindfulness practice begins by guiding you in calm\, controlled breathing\, helping you to make space in the mind to avoid feeling overwhelmed.\n  \nThis is followed by setting positive intention for ourselves so that instead of moving away from the negative\, we turn towards the positive which releases anything unnecessary & negative.\n  \nThis is followed by a loving & inspiring practice which helps us in inculcating within ourselves\, whatever we’ve experienced and imbibing it with love.\n\n  \nThis loving & inspiring meditation will help you calm your nerves\, shift your perspective and also prepare yourself for action\, which often proves to be the ultimate antidote to Anxiety.
URL:https://hubofconsciousness.com/event/anxiety-and-stress-healing-meditation/
CATEGORIES:Meditations
END:VEVENT
END:VCALENDAR