BEGIN:VCALENDAR
VERSION:2.0
PRODID:-//Hub of Consciousnes - ECPv6.2.9//NONSGML v1.0//EN
CALSCALE:GREGORIAN
METHOD:PUBLISH
X-WR-CALNAME:Hub of Consciousnes
X-ORIGINAL-URL:https://hubofconsciousness.com
X-WR-CALDESC:Events for Hub of Consciousnes
REFRESH-INTERVAL;VALUE=DURATION:PT1H
X-Robots-Tag:noindex
X-PUBLISHED-TTL:PT1H
BEGIN:VTIMEZONE
TZID:Asia/Dubai
BEGIN:STANDARD
TZOFFSETFROM:+0400
TZOFFSETTO:+0400
TZNAME:+04
DTSTART:20220101T000000
END:STANDARD
END:VTIMEZONE
BEGIN:VEVENT
DTSTART;TZID=Asia/Dubai:20221201T193000
DTEND;TZID=Asia/Dubai:20221201T201500
DTSTAMP:20260421T152207
CREATED:20221114T120543Z
LAST-MODIFIED:20221114T120543Z
UID:995495-1669923000-1669925700@hubofconsciousness.com
SUMMARY:Relieving Physical Pain Using Body Whispering with Shagufta
DESCRIPTION:Pain is information\, it shows us where there is dysfunction\, dis-ease and where your natural ability to heal or grow has become stagnant. \n  \nGet rid of any physical pain or discomfort by rekindling your body’s natural and innate ability to heal itself.\nThis Body Whispering session is all about moving the stagnant energies to get you connected with your own body’s capacity to be back to its normal state of being.
URL:https://hubofconsciousness.com/event/relieving-physical-pain-using-body-whispering-with-shagufta/
CATEGORIES:Meditations
END:VEVENT
END:VCALENDAR