BEGIN:VCALENDAR
VERSION:2.0
PRODID:-//Hub of Consciousnes - ECPv6.2.9//NONSGML v1.0//EN
CALSCALE:GREGORIAN
METHOD:PUBLISH
X-WR-CALNAME:Hub of Consciousnes
X-ORIGINAL-URL:https://hubofconsciousness.com
X-WR-CALDESC:Events for Hub of Consciousnes
REFRESH-INTERVAL;VALUE=DURATION:PT1H
X-Robots-Tag:noindex
X-PUBLISHED-TTL:PT1H
BEGIN:VTIMEZONE
TZID:Asia/Dubai
BEGIN:STANDARD
TZOFFSETFROM:+0400
TZOFFSETTO:+0400
TZNAME:+04
DTSTART:20220101T000000
END:STANDARD
END:VTIMEZONE
BEGIN:VEVENT
DTSTART;TZID=Asia/Dubai:20221129T180000
DTEND;TZID=Asia/Dubai:20221129T190000
DTSTAMP:20260419T220925
CREATED:20221106T124131Z
LAST-MODIFIED:20221106T124131Z
UID:995408-1669744800-1669748400@hubofconsciousness.com
SUMMARY:Salsa Therapy Session 2 Batch 2 by Fuddz
DESCRIPTION:“Salsa Therapy” is a journey of a fascinating dance therapy that helps us keep our mind body and soul in harmony as dancing is one of the closest forms of art to nature. \n\nNot only is it extremely therapeutic\, but it’s also an adrenal rush that totally elevates your spirits and energy like no other!\nThe upbeat nature helps cope with stress\, anxiety\, self-confidence and also serves as a perfect natural body workout.\nYou dance without fear or judgement.\n\n\n\nWhy try salsa therapy?\n\n1. Closest form of an art to the universe – Very therapeutic\n2. Excellent form of a natural workout\n3. Absolute stress buster\n4. Confidence booster\n5. Improves psychological well being\n6. Enhances social skills\n7. Outstanding method networking\n8. Increases brain power – Cognitive function\n9. Less expensive than therapy\n10. Dancing is an attractive ingredient for both sexes\n11. Removes fear
URL:https://hubofconsciousness.com/event/salsa-therapy-session-2-batch-2-by-fuddz/
CATEGORIES:Movement
END:VEVENT
END:VCALENDAR