BEGIN:VCALENDAR
VERSION:2.0
PRODID:-//Hub of Consciousnes - ECPv6.2.9//NONSGML v1.0//EN
CALSCALE:GREGORIAN
METHOD:PUBLISH
X-WR-CALNAME:Hub of Consciousnes
X-ORIGINAL-URL:https://hubofconsciousness.com
X-WR-CALDESC:Events for Hub of Consciousnes
REFRESH-INTERVAL;VALUE=DURATION:PT1H
X-Robots-Tag:noindex
X-PUBLISHED-TTL:PT1H
BEGIN:VTIMEZONE
TZID:Asia/Dubai
BEGIN:STANDARD
TZOFFSETFROM:+0400
TZOFFSETTO:+0400
TZNAME:+04
DTSTART:20220101T000000
END:STANDARD
END:VTIMEZONE
BEGIN:VEVENT
DTSTART;TZID=Asia/Dubai:20221112T090000
DTEND;TZID=Asia/Dubai:20221112T180000
DTSTAMP:20260420T000928
CREATED:20221106T130941Z
LAST-MODIFIED:20221106T130941Z
UID:995434-1668243600-1668276000@hubofconsciousness.com
SUMMARY:PSYCH-K® Health and Wellbeing Program with Duccio Locati
DESCRIPTION:Do you want to discover the magnificent self-healing abilities of your body and mind? Would you like to learn how to use them to help yourself? Alternatively\, are you a health and wellness professional? Would you like to have a tool to integrate with what you already know and gain a more holistic approach be even more effective? Then this Workshop is for you! \n  \n  \nOBJECTIVES \n  \nRemember your original\, Divine\, perfect state of health and stay aligned with it. \nThink in a new\, creative\, unconventional way to find previously invisible solutions. As Einstein said: “No problem can be solved from the same level of consciousness that created it“ \nHave all the necessary tools to manage a health-related session from beginning to end. \n  \n  \nWHAT WILL YOU LEARN \n  \nHOW TO GET THE MOST OUT OF YOUR “INNER DOCTOR \nYour “Inner Doctor” loves you and wants to help you\, but you need to know how to ask him for help: PSYCH- K® will teach you exactly how to do this! \n  \nHOW TO USE THE FOUR LEVELS OF REALITY \nOnly by changing perspective can you find solutions that were previously invisible. The Four Levels of Reality have this purpose: they will help you see your condition from different points of view and resolve it. \n  \nHOW TO BALANCE BELIEFS RELATED TO HEALTH AND WELLBEING \nYou will balance Beliefs tied to PSYCH-K® principles\, cooperation\, the healing process and the spiritual aspect of health. \n  \nTHE OPTIMAL HEALTH AND WELLBEING BALANCE \nIn this process you will integrate 22 Beliefs that all the healthiest\, long-living\, happiest\, most satisfied and successful people in the world have in common\, into your body-mind-spirit system. \n  \nTHE ALTERNATIVE LIFE BALANCE \nWith this Balance you will go even further. You will install the Beliefs of a healthy life\, in which the problem you have now never existed\, in your present life. \nYou will become aware of the causes that created the problem and be able to turn them into opportunities. \nYou will create\, from a sensory viewpoint\, the reality you desire\, and activate the biological\, biochemical\, psychological and spiritual responses of wellbeing in the here and now \n  \nHOW TO CONDUCT A SESSION RELATED TO WELLBEING \nYou will learn the key questions that need asking and how to use your intuition to help people you work with (including yourself) to find the solution to their problems. \n  \nHOW TO TRANSFORM THE PERCEPTION OF HEALTH-RELATED TRAUMA\, PAST\, PRESENT AND FUTURE \nThis is possible with PSYCH-K® and you will learn how to do it for past\, present and future traumas (worries such as: future medical procedures\, waiting for school exam outcomes\, etc.). \n  \nHOW TO FIND MESSAGES AND SECONDARY BENEFITS RELATED TO A CONDITION \nThe secondary benefits are the advantages you sometimes have in holding on to a situation (illness/problem). Knowing how to discover them and then transform them is often a necessary step to achieving and maintaining an optimal state of health. \n  \nHOW TO WORK WITH REACTIVE RESPONSES \nThis workshop will teach you a revolutionary way to work with these annoying conditions\, commonly called allergies or intolerances and\, in PSYCH-K®\, Reactive Responses. \n  \nHOW TO USE PSYCH-K® IN AN EMERGENCY \nYou will learn how to use PSYCH-K® in emergencies: before\, during and after necessary and essential medical treatment. \n  \nHOW TO USE PSYCH-K® IN PREVENTION \nA new way of looking at Prevention\, and consequent growth.
URL:https://hubofconsciousness.com/event/psych-k-health-and-wellbeing-program-with-duccio-locati-3/
CATEGORIES:Trainings
END:VEVENT
BEGIN:VEVENT
DTSTART;TZID=Asia/Dubai:20221112T190000
DTEND;TZID=Asia/Dubai:20221112T201500
DTSTAMP:20260420T000928
CREATED:20221106T125953Z
LAST-MODIFIED:20221106T130037Z
UID:995429-1668279600-1668284100@hubofconsciousness.com
SUMMARY:Breathwork & Ecstatic Movement with Naresh at JVT
DESCRIPTION:Find stillness through conscious movement through Chakra Breathing and Trance Meditation\n  \nWith the presence of chakras in the body\, it is the convergence of energy\, emotions\, and physical body. With these chakras\, our consciousness gets projected through these wheels\, and this largely determines what we experience in reality. By working intensely on these chakras\, we can deeply open all the blockages. \n  \nChakra Breathing is active and uses deep breathing with body movement. This breathing is accompanied by musical sounds to open and bring awareness to the body and mind. As we breathe deeply in Chakra\, it helps you to connect your body and charge the Chakras with energy
URL:https://hubofconsciousness.com/event/breathwork-ecstatic-movement-with-naresh-at-jvt/
CATEGORIES:Meditations
END:VEVENT
END:VCALENDAR